BEGIN:VCALENDAR
VERSION:2.0
PRODID:-//Palazzo Blu - ECPv6.15.20//NONSGML v1.0//EN
CALSCALE:GREGORIAN
METHOD:PUBLISH
X-ORIGINAL-URL:https://palazzoblu.it
X-WR-CALDESC:Eventi per Palazzo Blu
REFRESH-INTERVAL;VALUE=DURATION:PT1H
X-Robots-Tag:noindex
X-PUBLISHED-TTL:PT1H
BEGIN:VTIMEZONE
TZID:Europe/Rome
BEGIN:DAYLIGHT
TZOFFSETFROM:+0100
TZOFFSETTO:+0200
TZNAME:CEST
DTSTART:20230326T010000
END:DAYLIGHT
BEGIN:STANDARD
TZOFFSETFROM:+0200
TZOFFSETTO:+0100
TZNAME:CET
DTSTART:20231029T010000
END:STANDARD
BEGIN:DAYLIGHT
TZOFFSETFROM:+0100
TZOFFSETTO:+0200
TZNAME:CEST
DTSTART:20240331T010000
END:DAYLIGHT
BEGIN:STANDARD
TZOFFSETFROM:+0200
TZOFFSETTO:+0100
TZNAME:CET
DTSTART:20241027T010000
END:STANDARD
BEGIN:DAYLIGHT
TZOFFSETFROM:+0100
TZOFFSETTO:+0200
TZNAME:CEST
DTSTART:20250330T010000
END:DAYLIGHT
BEGIN:STANDARD
TZOFFSETFROM:+0200
TZOFFSETTO:+0100
TZNAME:CET
DTSTART:20251026T010000
END:STANDARD
END:VTIMEZONE
BEGIN:VEVENT
DTSTART;TZID=Europe/Rome:20240106T153000
DTEND;TZID=Europe/Rome:20240106T170000
DTSTAMP:20260422T232128
CREATED:20231019T140646Z
LAST-MODIFIED:20231025T145542Z
UID:38971-1704555000-1704560400@palazzoblu.it
SUMMARY:Portare a spasso la linea: da Paul Klee a Saul Steinberg. Laboratorio per adulti
DESCRIPTION:Questo laboratorio è pensato per tutti coloro che hanno voglia di misurarsi con le proprie incertezze. \nDopo una breve visita alle sale della mostra\, alla scoperta dei vari stili utilizzati dagli artisti delle Avanguardie\, i partecipanti in laboratorio metteranno alla prova la loro fluidità narrativa e manuale per interpretare il mondo esterno con mezzi solitamente utilizzati per scrivere. \nDURATA:\n1h 30’ (di cui 40’ visita guidata) \nQUANDO:\nSabato 6 gennaio ore 15:30\nÈ richiesta la massima puntualità. \nMODALITA’ DI PRENOTAZIONE:\nSi richiede la prenotazione con una settimana di anticipo rispetto alla data di visita. Prenotazione obbligatoria. \nTARIFFE:\n16\,00 Euro (ingresso mostra + visita guidata + laboratorio didattico)\nPrenotazione obbligatoria \nINFO E PRENOTAZIONI:\nPalazzo Blu: 050 916950\nKinzica Società Cooperativa Tel. (+39) 377 1672424\nMail: info@kinzicacoop.it
URL:https://palazzoblu.it/visita/portare-a-spasso-la-linea-da-paul-klee-a-saul-steinberg/
LOCATION:Palazzo Blu\, Lungarno Gambacorti 9\, Pisa\, 56125\, Italia
ATTACH;FMTTYPE=image/jpeg:https://palazzoblu.it/wp-content/uploads/2023/10/klee-laboratori.jpg
END:VEVENT
END:VCALENDAR