BEGIN:VCALENDAR
VERSION:2.0
PRODID:-//Palazzo Blu - ECPv6.15.20//NONSGML v1.0//EN
CALSCALE:GREGORIAN
METHOD:PUBLISH
X-WR-CALNAME:Palazzo Blu
X-ORIGINAL-URL:https://palazzoblu.it
X-WR-CALDESC:Eventi per Palazzo Blu
REFRESH-INTERVAL;VALUE=DURATION:PT1H
X-Robots-Tag:noindex
X-PUBLISHED-TTL:PT1H
BEGIN:VTIMEZONE
TZID:Europe/Rome
BEGIN:DAYLIGHT
TZOFFSETFROM:+0100
TZOFFSETTO:+0200
TZNAME:CEST
DTSTART:20230326T010000
END:DAYLIGHT
BEGIN:STANDARD
TZOFFSETFROM:+0200
TZOFFSETTO:+0100
TZNAME:CET
DTSTART:20231029T010000
END:STANDARD
BEGIN:DAYLIGHT
TZOFFSETFROM:+0100
TZOFFSETTO:+0200
TZNAME:CEST
DTSTART:20240331T010000
END:DAYLIGHT
BEGIN:STANDARD
TZOFFSETFROM:+0200
TZOFFSETTO:+0100
TZNAME:CET
DTSTART:20241027T010000
END:STANDARD
BEGIN:DAYLIGHT
TZOFFSETFROM:+0100
TZOFFSETTO:+0200
TZNAME:CEST
DTSTART:20250330T010000
END:DAYLIGHT
BEGIN:STANDARD
TZOFFSETFROM:+0200
TZOFFSETTO:+0100
TZNAME:CET
DTSTART:20251026T010000
END:STANDARD
END:VTIMEZONE
BEGIN:VEVENT
DTSTART;TZID=Europe/Rome:20240121T150000
DTEND;TZID=Europe/Rome:20240121T163000
DTSTAMP:20260422T232037
CREATED:20231023T134049Z
LAST-MODIFIED:20231025T145828Z
UID:39044-1705849200-1705854600@palazzoblu.it
SUMMARY:Workshop di acquerello. Laboratorio per adulti
DESCRIPTION:consigliato a chi vuole divertirsi \nDopo un breve percorso tra le sale della Dimora nobiliare nella Collezione Permanente di Palazzo Blu\, i partecipanti realizzeranno un tralcio vegetale ispirandosi ad alcuni motivi decorativi scoperti durante il percorso. \nDURATA:\nun’ora e mezzo \nCOSTO:\n14\,00 euro (ingresso mostra + visita guidata alla Dimora Nobiliare + laboratorio) \nProgetti a cura della dott.ssa Francesca Pagliai \nMODALITA’ DI PRENOTAZIONE\nPrenotazione obbligatoria\ninfo@kinzicacoop.it\ninfo@palazzoblu.it\n050 916950 – (+39) 377 1672424
URL:https://palazzoblu.it/visita/workshop-di-acquerello/
LOCATION:Palazzo Blu\, Lungarno Gambacorti 9\, Pisa\, 56125\, Italia
ATTACH;FMTTYPE=image/jpeg:https://palazzoblu.it/wp-content/uploads/2023/10/laboratorio-adulti-acquarelli.jpg
END:VEVENT
END:VCALENDAR