BEGIN:VCALENDAR
VERSION:2.0
PRODID:-//Palazzo Blu - ECPv6.15.20//NONSGML v1.0//EN
CALSCALE:GREGORIAN
METHOD:PUBLISH
X-WR-CALNAME:Palazzo Blu
X-ORIGINAL-URL:https://palazzoblu.it
X-WR-CALDESC:Eventi per Palazzo Blu
REFRESH-INTERVAL;VALUE=DURATION:PT1H
X-Robots-Tag:noindex
X-PUBLISHED-TTL:PT1H
BEGIN:VTIMEZONE
TZID:Europe/Rome
BEGIN:DAYLIGHT
TZOFFSETFROM:+0100
TZOFFSETTO:+0200
TZNAME:CEST
DTSTART:20230326T010000
END:DAYLIGHT
BEGIN:STANDARD
TZOFFSETFROM:+0200
TZOFFSETTO:+0100
TZNAME:CET
DTSTART:20231029T010000
END:STANDARD
BEGIN:DAYLIGHT
TZOFFSETFROM:+0100
TZOFFSETTO:+0200
TZNAME:CEST
DTSTART:20240331T010000
END:DAYLIGHT
BEGIN:STANDARD
TZOFFSETFROM:+0200
TZOFFSETTO:+0100
TZNAME:CET
DTSTART:20241027T010000
END:STANDARD
BEGIN:DAYLIGHT
TZOFFSETFROM:+0100
TZOFFSETTO:+0200
TZNAME:CEST
DTSTART:20250330T010000
END:DAYLIGHT
BEGIN:STANDARD
TZOFFSETFROM:+0200
TZOFFSETTO:+0100
TZNAME:CET
DTSTART:20251026T010000
END:STANDARD
END:VTIMEZONE
BEGIN:VEVENT
DTSTART;TZID=Europe/Rome:20240225T153000
DTEND;TZID=Europe/Rome:20240225T170000
DTSTAMP:20260422T213658
CREATED:20240215T084813Z
LAST-MODIFIED:20240215T085629Z
UID:39595-1708875000-1708880400@palazzoblu.it
SUMMARY:Radici. Laboratorio di arteterapia nelle Fondamenta di Palazzo Blu
DESCRIPTION:a cura di Stefania De Cristofaro\, arteterapeuta \nIn questo laboratorio esploreremo le Fondamenta di Palazzo Blu: un’esposizione archeologica permanente che ci racconta la storia del Palazzo e di una parte di Pisa a partire dall’anno Mille.\nAttraverso l’osservazione di oggetti di uso quotidiano che raccontano i modi di abitare\, le abitudini\, le attività e i passatempi di un tempo\, proveremo a riscrivere nuove piccole storie. La creazione delle immagini sarà facilitata dagli oggetti che incontreremo: processo creativo e rielaborazione condivisa permetteranno al gruppo di creare un’archeologia\n(con)temporanea ed attuale.\nIl laboratorio sarà un momento per ripensare il Museo come luogo di benessere e cura : l’arteterapia\, infatti\, è “una modalità che si serve del linguaggio non verbale dell’arte per la crescita personale\, la comprensione di sé e la trasformazione\, ed è un mezzo per collegare ciò che abbiamo dentro – pensieri\, sentimenti e percezioni – con la realtà esterna e le esperienze di vita.” (Cathy Malchiodi) \nPer partecipare non occorrono particolari capacità artistiche. \nIl laboratorio ha un costo di Euro 15\, inclusi ingresso e materiali;\nè richiesta la prenotazione entro sabato 24 febbraio chiamando lo 050.916950 oppure scrivendo a info@kinzicacoop.it o a info@palazzoblu.it
URL:https://palazzoblu.it/visita/radici-laboratorio-di-arteterapia-nelle-fondamenta-di-palazzo-blu/
LOCATION:Palazzo Blu\, Lungarno Gambacorti 9\, Pisa\, 56125\, Italia
ATTACH;FMTTYPE=image/jpeg:https://palazzoblu.it/wp-content/uploads/2024/02/20240208_100531.jpg
END:VEVENT
END:VCALENDAR