BEGIN:VCALENDAR
VERSION:2.0
PRODID:-//Palazzo Blu - ECPv6.15.20//NONSGML v1.0//EN
CALSCALE:GREGORIAN
METHOD:PUBLISH
X-WR-CALNAME:Palazzo Blu
X-ORIGINAL-URL:https://palazzoblu.it
X-WR-CALDESC:Eventi per Palazzo Blu
REFRESH-INTERVAL;VALUE=DURATION:PT1H
X-Robots-Tag:noindex
X-PUBLISHED-TTL:PT1H
BEGIN:VTIMEZONE
TZID:Europe/Rome
BEGIN:DAYLIGHT
TZOFFSETFROM:+0100
TZOFFSETTO:+0200
TZNAME:CEST
DTSTART:20230326T010000
END:DAYLIGHT
BEGIN:STANDARD
TZOFFSETFROM:+0200
TZOFFSETTO:+0100
TZNAME:CET
DTSTART:20231029T010000
END:STANDARD
BEGIN:DAYLIGHT
TZOFFSETFROM:+0100
TZOFFSETTO:+0200
TZNAME:CEST
DTSTART:20240331T010000
END:DAYLIGHT
BEGIN:STANDARD
TZOFFSETFROM:+0200
TZOFFSETTO:+0100
TZNAME:CET
DTSTART:20241027T010000
END:STANDARD
BEGIN:DAYLIGHT
TZOFFSETFROM:+0100
TZOFFSETTO:+0200
TZNAME:CEST
DTSTART:20250330T010000
END:DAYLIGHT
BEGIN:STANDARD
TZOFFSETFROM:+0200
TZOFFSETTO:+0100
TZNAME:CET
DTSTART:20251026T010000
END:STANDARD
END:VTIMEZONE
BEGIN:VEVENT
DTSTART;TZID=Europe/Rome:20240526T110000
DTEND;TZID=Europe/Rome:20240526T120000
DTSTAMP:20260422T195724
CREATED:20240515T125541Z
LAST-MODIFIED:20240515T133122Z
UID:39850-1716721200-1716724800@palazzoblu.it
SUMMARY:Un viaggio nel tempo attraverso gli animali
DESCRIPTION:26 maggio h 11:00\nVISITA GUIDATA\nAttività gratuita in occasione della Giornata Nazionale delle Dimore Storiche.\nPrenotazione obbligatoria\nUn viaggio nel tempo attraverso gli animali\nDalla targa medievale in marmo nel vestibolo al paravento liberty dipinto nella dimora nobiliare\, gli animali rappresentati saranno l’occasione per un viaggio nelle meravigliose storie legate al Palazzo Blu. \nEtà consigliata: ragazzi (a partire da 14 anni) e adulti\nDurata: 1 h \nPer info e prenotazione:\nTel: +39 050 916 950\nE-Mail: info@palazzoblu.it\nE-Mail: info@kinzicacoop.it
URL:https://palazzoblu.it/visita/un-viaggio-nel-tempo-attraverso-gli-animali-2/
LOCATION:Palazzo Blu\, Lungarno Gambacorti 9\, Pisa\, 56125\, Italia
ATTACH;FMTTYPE=image/jpeg:https://palazzoblu.it/wp-content/uploads/2024/05/VISITA-GUIDATA-h-11.00-scaled.jpg
END:VEVENT
BEGIN:VEVENT
DTSTART;TZID=Europe/Rome:20240526T110000
DTEND;TZID=Europe/Rome:20240526T120000
DTSTAMP:20260422T195724
CREATED:20241028T164845Z
LAST-MODIFIED:20241028T164845Z
UID:40593-1716721200-1716724800@palazzoblu.it
SUMMARY:Un viaggio nel tempo attraverso gli animali
DESCRIPTION:26 maggio h 11:00\nVISITA GUIDATA\nAttività gratuita in occasione della Giornata Nazionale delle Dimore Storiche.\nPrenotazione obbligatoria\nUn viaggio nel tempo attraverso gli animali\nDalla targa medievale in marmo nel vestibolo al paravento liberty dipinto nella dimora nobiliare\, gli animali rappresentati saranno l’occasione per un viaggio nelle meravigliose storie legate al Palazzo Blu. \nEtà consigliata: ragazzi (a partire da 14 anni) e adulti\nDurata: 1 h \nPer info e prenotazione:\nTel: +39 050 916 950\nE-Mail: info@palazzoblu.it\nE-Mail: info@kinzicacoop.it
URL:https://palazzoblu.it/visita/un-viaggio-nel-tempo-attraverso-gli-animali-2-2/
LOCATION:Palazzo Blu\, Lungarno Gambacorti 9\, Pisa\, 56125\, Italia
ATTACH;FMTTYPE=image/jpeg:https://palazzoblu.it/wp-content/uploads/2024/05/VISITA-GUIDATA-h-11.00-scaled.jpg
END:VEVENT
BEGIN:VEVENT
DTSTART;TZID=Europe/Rome:20240526T150000
DTEND;TZID=Europe/Rome:20240526T163000
DTSTAMP:20260422T195724
CREATED:20240214T140138Z
LAST-MODIFIED:20240515T125857Z
UID:39563-1716735600-1716741000@palazzoblu.it
SUMMARY:Laboratorio didattico per famiglie. Animali a Palazzo
DESCRIPTION:26 maggio h 15:00\nLABORATORIO DIDATTICO PER FAMIGLIE\nAttività gratuita in occasione della Giornata Nazionale delle Dimore Storiche. Prenotazione obbligatoria \nAnimali a Palazzo\nDopo una breve visita tra le sale di Palazzo Blu alla ricerca degli animali che popolano i dipinti ospitati nella Collezione Permanente\, i partecipanti animeranno le principali sale della dimora con questi singolari abitanti\, usando tecnica mista su carta. \nEtà consigliata: dai 5 anni ai 10 anni. Almeno 1 adulto deve accompagnare il bambino\nDurata: 1h 30′ \nper info e prenotazione:\nTel: +39 050 916 950\nE-Mail: info@palazzoblu.it\nE-Mail: info@kinzicacoop.it
URL:https://palazzoblu.it/visita/laboratorio-didattico-per-famiglie-animali-a-palazzo/
LOCATION:Palazzo Blu\, Lungarno Gambacorti 9\, Pisa\, 56125\, Italia
ATTACH;FMTTYPE=image/jpeg:https://palazzoblu.it/wp-content/uploads/2024/02/LABORATORIO-DIDATTICO-PER-FAMIGLIE-h-15.00.jpg
END:VEVENT
END:VCALENDAR