BEGIN:VCALENDAR
VERSION:2.0
PRODID:-//Palazzo Blu - ECPv6.15.20//NONSGML v1.0//EN
CALSCALE:GREGORIAN
METHOD:PUBLISH
X-ORIGINAL-URL:https://palazzoblu.it
X-WR-CALDESC:Eventi per Palazzo Blu
REFRESH-INTERVAL;VALUE=DURATION:PT1H
X-Robots-Tag:noindex
X-PUBLISHED-TTL:PT1H
BEGIN:VTIMEZONE
TZID:Europe/Rome
BEGIN:DAYLIGHT
TZOFFSETFROM:+0100
TZOFFSETTO:+0200
TZNAME:CEST
DTSTART:20240331T010000
END:DAYLIGHT
BEGIN:STANDARD
TZOFFSETFROM:+0200
TZOFFSETTO:+0100
TZNAME:CET
DTSTART:20241027T010000
END:STANDARD
BEGIN:DAYLIGHT
TZOFFSETFROM:+0100
TZOFFSETTO:+0200
TZNAME:CEST
DTSTART:20250330T010000
END:DAYLIGHT
BEGIN:STANDARD
TZOFFSETFROM:+0200
TZOFFSETTO:+0100
TZNAME:CET
DTSTART:20251026T010000
END:STANDARD
BEGIN:DAYLIGHT
TZOFFSETFROM:+0100
TZOFFSETTO:+0200
TZNAME:CEST
DTSTART:20260329T010000
END:DAYLIGHT
BEGIN:STANDARD
TZOFFSETFROM:+0200
TZOFFSETTO:+0100
TZNAME:CET
DTSTART:20261025T010000
END:STANDARD
END:VTIMEZONE
BEGIN:VEVENT
DTSTART;TZID=Europe/Rome:20250214T180000
DTEND;TZID=Europe/Rome:20250214T190000
DTSTAMP:20260422T104235
CREATED:20241025T103957Z
LAST-MODIFIED:20241025T104206Z
UID:40539-1739556000-1739559600@palazzoblu.it
SUMMARY:Visita guidata: San Valentino a Palazzo
DESCRIPTION:In occasione della festa di San Valentino ripercorreremo insieme l’amore che legò Isabella Roncioni al poeta Ugo Foscolo\, ispirando sonetti e pagine intense della letteratura dell’Ottocento. \nTariffe:\nPrenotazione obbligatoria\nBiglietto ridotto: € 3\,00 a persona\nVisita guidata: € 6\,00 a persona \nDurata: 1h \nCondizioni generali: la visita guidata verrà effettuata solo al raggiungimento di 10 partecipanti \nper info e prenotazione:\nTel: +39 050 916 950\nE-Mail: info@palazzoblu.it\nE-Mail: info@kinzicacoop.it
URL:https://palazzoblu.it/visita/visita-guidata-san-valentino-a-palazzo/
LOCATION:Palazzo Blu\, Lungarno Gambacorti 9\, Pisa\, 56125\, Italia
ATTACH;FMTTYPE=image/jpeg:https://palazzoblu.it/wp-content/uploads/2024/10/12.-San-Valentino.jpg
END:VEVENT
END:VCALENDAR