BEGIN:VCALENDAR
VERSION:2.0
PRODID:-//Palazzo Blu - ECPv6.15.20//NONSGML v1.0//EN
CALSCALE:GREGORIAN
METHOD:PUBLISH
X-WR-CALNAME:Palazzo Blu
X-ORIGINAL-URL:https://palazzoblu.it
X-WR-CALDESC:Eventi per Palazzo Blu
REFRESH-INTERVAL;VALUE=DURATION:PT1H
X-Robots-Tag:noindex
X-PUBLISHED-TTL:PT1H
BEGIN:VTIMEZONE
TZID:Europe/Rome
BEGIN:DAYLIGHT
TZOFFSETFROM:+0100
TZOFFSETTO:+0200
TZNAME:CEST
DTSTART:20240331T010000
END:DAYLIGHT
BEGIN:STANDARD
TZOFFSETFROM:+0200
TZOFFSETTO:+0100
TZNAME:CET
DTSTART:20241027T010000
END:STANDARD
BEGIN:DAYLIGHT
TZOFFSETFROM:+0100
TZOFFSETTO:+0200
TZNAME:CEST
DTSTART:20250330T010000
END:DAYLIGHT
BEGIN:STANDARD
TZOFFSETFROM:+0200
TZOFFSETTO:+0100
TZNAME:CET
DTSTART:20251026T010000
END:STANDARD
BEGIN:DAYLIGHT
TZOFFSETFROM:+0100
TZOFFSETTO:+0200
TZNAME:CEST
DTSTART:20260329T010000
END:DAYLIGHT
BEGIN:STANDARD
TZOFFSETFROM:+0200
TZOFFSETTO:+0100
TZNAME:CET
DTSTART:20261025T010000
END:STANDARD
END:VTIMEZONE
BEGIN:VEVENT
DTSTART;TZID=Europe/Rome:20250216T101500
DTEND;TZID=Europe/Rome:20250216T114500
DTSTAMP:20260422T104226
CREATED:20241028T172854Z
LAST-MODIFIED:20241028T172918Z
UID:40641-1739700900-1739706300@palazzoblu.it
SUMMARY:La Caccia al dettaglio!
DESCRIPTION:laboratorio consigliato dai 6 ai 10 anni\nDopo un breve percorso tra le sale della Collezione Permanente di Palazzo Blu\, i partecipanti saranno invitati a collaborare tra di loro per ricercare all’ interno delle sale del palazzo dei dettagli sfuggiti alle loro opere. Alla fine\, ogni partecipante realizzerà il proprio museo dei dettagli di Palazzo Blu.\nIl laboratorio parte al raggiungimento del numero minimo di 4 bambini\nI bambini devono essere accompagnati da un adulto. \nTariffe:\n8 euro per bambino e 10 euro per adulto (ingresso mostra + visita guidata + laboratorio) \nDurata: 1h 30 minuti \nper info e prenotazione:\nTel: +39 050 916 950\nE-Mail: info@palazzoblu.it\nE-Mail: info@kinzicacoop.it
URL:https://palazzoblu.it/visita/la-caccia-al-dettaglio-2/
LOCATION:Palazzo Blu\, Lungarno Gambacorti 9\, Pisa\, 56125\, Italia
ATTACH;FMTTYPE=image/jpeg:https://palazzoblu.it/wp-content/uploads/2024/10/8.-Caccia-al-dettaglio.jpg
END:VEVENT
BEGIN:VEVENT
DTSTART;TZID=Europe/Rome:20250216T160000
DTEND;TZID=Europe/Rome:20250216T170000
DTSTAMP:20260422T104226
CREATED:20241028T165817Z
LAST-MODIFIED:20241028T165842Z
UID:40608-1739721600-1739725200@palazzoblu.it
SUMMARY:Visita guidata: dalla guerra alla liberazione. Pisa 1940-1945
DESCRIPTION:La visita guidata ripercorrerà i momenti che dal drammatico conflitto porteranno la città di Pisa al 2 settembre del 1944\, giorno della sua liberazione. \nTariffe:\nPrenotazione obbligatoria\nBiglietto ridotto: € 3\,00 a persona\nVisita guidata: € 6\,00 a persona \nCondizioni generali: la visita guidata verrà effettuata solo al raggiungimento di 10 partecipanti \nDurata: 60 minuti \nper info e prenotazione:\nTel: +39 050 916 950\nE-Mail: info@palazzoblu.it\nE-Mail: info@kinzicacoop.it
URL:https://palazzoblu.it/visita/visita-guidata-dalla-guerra-alla-liberazione-pisa-1940-1945-2-2-2/
LOCATION:Palazzo Blu\, Lungarno Gambacorti 9\, Pisa\, 56125\, Italia
ATTACH;FMTTYPE=image/jpeg:https://palazzoblu.it/wp-content/uploads/2024/10/6.-Dalla-guerra-alla-Liberazione.jpeg
END:VEVENT
END:VCALENDAR