BEGIN:VCALENDAR
VERSION:2.0
PRODID:-//Palazzo Blu - ECPv6.15.18//NONSGML v1.0//EN
CALSCALE:GREGORIAN
METHOD:PUBLISH
X-WR-CALNAME:Palazzo Blu
X-ORIGINAL-URL:https://palazzoblu.it
X-WR-CALDESC:Eventi per Palazzo Blu
REFRESH-INTERVAL;VALUE=DURATION:PT1H
X-Robots-Tag:noindex
X-PUBLISHED-TTL:PT1H
BEGIN:VTIMEZONE
TZID:Europe/Rome
BEGIN:DAYLIGHT
TZOFFSETFROM:+0100
TZOFFSETTO:+0200
TZNAME:CEST
DTSTART:20240331T010000
END:DAYLIGHT
BEGIN:STANDARD
TZOFFSETFROM:+0200
TZOFFSETTO:+0100
TZNAME:CET
DTSTART:20241027T010000
END:STANDARD
BEGIN:DAYLIGHT
TZOFFSETFROM:+0100
TZOFFSETTO:+0200
TZNAME:CEST
DTSTART:20250330T010000
END:DAYLIGHT
BEGIN:STANDARD
TZOFFSETFROM:+0200
TZOFFSETTO:+0100
TZNAME:CET
DTSTART:20251026T010000
END:STANDARD
BEGIN:DAYLIGHT
TZOFFSETFROM:+0100
TZOFFSETTO:+0200
TZNAME:CEST
DTSTART:20260329T010000
END:DAYLIGHT
BEGIN:STANDARD
TZOFFSETFROM:+0200
TZOFFSETTO:+0100
TZNAME:CET
DTSTART:20261025T010000
END:STANDARD
END:VTIMEZONE
BEGIN:VEVENT
DTSTART;TZID=Europe/Rome:20251123T170000
DTEND;TZID=Europe/Rome:20251123T190000
DTSTAMP:20260419T183936
CREATED:20251103T081359Z
LAST-MODIFIED:20251103T081535Z
UID:42112-1763917200-1763924400@palazzoblu.it
SUMMARY:Volti di Dee e Donne: viaggio tra archetipi femminili nelle monete antiche
DESCRIPTION:Volti di Dee e Donne: viaggio tra archetipi femminili nelle monete antiche.\nLaboratorio di Arteterapia a cura di Stefania De Cristofaro \nIl laboratorio di arteterapia “Volti di Dee e Donne” si svolge tra le suggestive monete antiche della collezione di Palazzo Blu\, dove la presenza di figure femminili riflette ruoli e simboli della donna nel passato. Attraverso la rappresentazione di dee\, regine e donne dell’impero\, le monete raccontano storie di forza e influenza femminile\, pur in una società che le escludeva da posizioni di potere.\nIn questo percorso creativo esploreremo gli archetipi delle dee antiche\, scoprendo come possano ispirare e sostenere il nostro vissuto quotidiano. \nPRENOTAZIONE:\nPer partecipare non occorrono particolari capacità artistiche.\nIl laboratorio ha un costo di €15 \, inclusi ingresso e materiali\nÈ richiesta la prenotazione entro sabato 22 novembre\, chiamando lo 050916950 oppure scrivendo a info@kinzicacoop.it
URL:https://palazzoblu.it/visita/volti-di-dee-e-donne-viaggio-tra-archetipi-femminili-nelle-monete-antiche-2/
ATTACH;FMTTYPE=image/png:https://palazzoblu.it/wp-content/uploads/2025/11/arteterapia-low.png
END:VEVENT
END:VCALENDAR