BEGIN:VCALENDAR
VERSION:2.0
PRODID:-//Palazzo Blu - ECPv6.15.18//NONSGML v1.0//EN
CALSCALE:GREGORIAN
METHOD:PUBLISH
X-ORIGINAL-URL:https://palazzoblu.it
X-WR-CALDESC:Eventi per Palazzo Blu
REFRESH-INTERVAL;VALUE=DURATION:PT1H
X-Robots-Tag:noindex
X-PUBLISHED-TTL:PT1H
BEGIN:VTIMEZONE
TZID:Europe/Rome
BEGIN:DAYLIGHT
TZOFFSETFROM:+0100
TZOFFSETTO:+0200
TZNAME:CEST
DTSTART:20240331T010000
END:DAYLIGHT
BEGIN:STANDARD
TZOFFSETFROM:+0200
TZOFFSETTO:+0100
TZNAME:CET
DTSTART:20241027T010000
END:STANDARD
BEGIN:DAYLIGHT
TZOFFSETFROM:+0100
TZOFFSETTO:+0200
TZNAME:CEST
DTSTART:20250330T010000
END:DAYLIGHT
BEGIN:STANDARD
TZOFFSETFROM:+0200
TZOFFSETTO:+0100
TZNAME:CET
DTSTART:20251026T010000
END:STANDARD
BEGIN:DAYLIGHT
TZOFFSETFROM:+0100
TZOFFSETTO:+0200
TZNAME:CEST
DTSTART:20260329T010000
END:DAYLIGHT
BEGIN:STANDARD
TZOFFSETFROM:+0200
TZOFFSETTO:+0100
TZNAME:CET
DTSTART:20261025T010000
END:STANDARD
BEGIN:DAYLIGHT
TZOFFSETFROM:+0100
TZOFFSETTO:+0200
TZNAME:CEST
DTSTART:20270328T010000
END:DAYLIGHT
BEGIN:STANDARD
TZOFFSETFROM:+0200
TZOFFSETTO:+0100
TZNAME:CET
DTSTART:20271031T010000
END:STANDARD
END:VTIMEZONE
BEGIN:VEVENT
DTSTART;TZID=Europe/Rome:20250511T103000
DTEND;TZID=Europe/Rome:20250511T123000
DTSTAMP:20260420T051558
CREATED:20250424T065439Z
LAST-MODIFIED:20250429T124627Z
UID:41250-1746959400-1746966600@palazzoblu.it
SUMMARY:Laboratorio speciale sul libro per bambini "fiaba di gatto"
DESCRIPTION:“Fiaba di gatto” è un libro pensato e scritto dalla psicologa Maria Rosa Ceragioli e illustrato dall’artista Graziano Guiso. Parla di affetto\, distacco e indipendenza.\nPensando a questo\, domenica 11 maggio alle ore 10:30\, Palazzo Blu ospiterà gli autori del libro per dare vita ad un’attività laboratoriale a più mani con gli operatori didattici di Kinzica.\nDopo la lettura della storia da parte dell’autrice\, i partecipanti saranno invitati a porre domande e curiosità in una sorta di intervista spontanea\, che li porterà a discutere delle tematiche affrontate nel libro e a creare dei paralleli con la loro esperienza.\nSuccessivamente i piccoli si misureranno con vari strumenti artistici\, dalle matite ai pastelli\, per esprimere con il disegno quello che “Fiaba di gatto” gli ha trasmesso.\nPer l’occasione saranno esposte le tavole originali presenti nel libro. \nATTIVITA’ GRATUITA \nMODALITA’ DI PRENOTAZIONE \nPartecipanti: età consigliata dai 5 anni. I bambini devono essere accompagnati da un adulto Durata: 1h e 30’\nPrenotazione obbligatoria \nMail: info@palazzoblu.it\nTel: 050.916950
URL:https://palazzoblu.it/visita/laboratorio-speciale-sul-libro-per-bambini-fiaba-di-gatto/
ATTACH;FMTTYPE=image/jpeg:https://palazzoblu.it/wp-content/uploads/2025/04/gatto.jpg
END:VEVENT
BEGIN:VEVENT
DTSTART;TZID=Europe/Rome:20250928T103000
DTEND;TZID=Europe/Rome:20250928T123000
DTSTAMP:20260420T051558
CREATED:20250918T081931Z
LAST-MODIFIED:20250918T134740Z
UID:41890-1759055400-1759062600@palazzoblu.it
SUMMARY:Museo creattivo. Laboratorio gratuito di arteterapia museale
DESCRIPTION:Museo creattivo. Laboratorio gratuito di arteterapia museale della dott.ssa Stefania De Cristofaro\nin occasione della Giornata Europea dell’Arteterapia\, in collaborazione con Apiart \nPrenotazione: entro venerdì 26 settembre\, chiamando lo 050.916950 oppure scrivendo a info@kinzicacoop.it o a stefania@vitacreattiva.it \nPartecipanti: rivolto a un gruppo massimo 10 partecipanti per garantire un clima intimo e rispettoso\, in cui ciascuno possa vivere pienamente l’esperienza.\nNon è richiesta alcuna competenza artistica e i materiali saranno forniti. \nCosto: Il laboratorio è gratuito\, l’ingresso alla collezione permanente ha un costo di 5\,00 euro tariffa intera\, 3\,00 euro tariffa con convenzioni \nTesto fornito dall’ideatrice:\nIl museo diventa luogo di cura e trasformazione: in questo laboratorio i e le partecipanti saranno invitati a vivere un dialogo intimo con un’opera d’arte esposta\, lasciandosi guidare dal linguaggio delle immagini\, dei simboli e dei colori.\nAttraverso una pratica di rispecchiamento con l’opera\, l’esperienza si svilupperà in due momenti:\nosservazione attiva: uno sguardo lento e profondo all’opera scelta\, con esercizi di consapevolezza e ascolto delle emozioni che suscita.\ncreazione personale: un tempo per trasformare quelle impressioni in segni\, forme e immagini\, utilizzando materiali semplici (disegno\, collage\, colore).\nL’obiettivo non è “fare arte”\, ma scoprire come l’arte ci parla e ci aiuta a riconoscerci\, aprendo uno spazio di benessere\, riflessione e condivisione.
URL:https://palazzoblu.it/visita/museo-creativo-laboratorio-gratuito-di-arteterapia-museale/
ATTACH;FMTTYPE=image/jpeg:https://palazzoblu.it/wp-content/uploads/2025/09/natura-morta.jpg
END:VEVENT
BEGIN:VEVENT
DTSTART;VALUE=DATE:20251012
DTEND;VALUE=DATE:20251013
DTSTAMP:20260420T051558
CREATED:20251009T135757Z
LAST-MODIFIED:20251009T140114Z
UID:41977-1760227200-1760313599@palazzoblu.it
SUMMARY:Famu - Giornata nazionale famiglie al museo
DESCRIPTION:Famu – Giornata nazionale famiglie al museo – Visita guidata interattiva gratuita per bambini\nDomenica 12 Ottobre dalle 10:00 alle 12:00 e dalle 15:00 alle 17:00 \nPalazzo Blu anche quest’anno aderisce a F@mu\, offrendo un’ attività gratuita per i più piccoli! I bambini saranno coinvolti in una giocosa visita guidata all’interno delle sontuose sale della Collezione Permanente di Palazzo Blu. \nEtà consigliata: 5-12 anni \nInformazioni: info@kinzicacoop.it / 050 – 916950
URL:https://palazzoblu.it/visita/famu-giornata-nazionale-famiglie-al-museo/
ATTACH;FMTTYPE=image/jpeg:https://palazzoblu.it/wp-content/uploads/2025/10/1000066834.jpg
END:VEVENT
BEGIN:VEVENT
DTSTART;TZID=Europe/Rome:20251025T150000
DTEND;TZID=Europe/Rome:20251025T163000
DTSTAMP:20260420T051558
CREATED:20251030T140446Z
LAST-MODIFIED:20251030T140818Z
UID:42082-1761404400-1761409800@palazzoblu.it
SUMMARY:Laboratori per famiglie per la mostra Belle Époque
DESCRIPTION:UN ORNAMENTO IN STILE BELLE ÉPOQUE \nI laboratori per famiglia nascono con l’intento di far lavorare insieme figli e genitori\, all’interno di un’esperienza artistica unica.\nI bambini\, accompagnati dagli adulti\, verranno guidati all’interno della mostra alla scoperta dei costumi e delle abitudini del tempo attraverso il racconto visivo dei pittori esposti.\nIn laboratorio\, supportati dai genitori\, realizzeranno un ciondolo decorativo di carta e altri materiali\, partendo dalle riproduzioni dell’epoca (dagli animali di Beatrix Potter alle figurine vintage)\, ispirato agli ornamenti di fine ‘800. \nETA’ CONSIGLIATA: dai 5 ai 12 anni \nTARIFFE:\nVisita guidata + laboratorio\n€ 10\,50 bambino (ingresso mostra + visita guidata + laboratorio didattico)\n€ 14\,50 adulto (ingresso mostra + visita guidata + laboratorio didattico)\nAlmeno 1 adulto deve accompagnare il bambino\nDURATA: 1 ora e trenta minuti \nPER PRENOTARE:\nTel. 050 916 950\nMail: info@kinzicacoop.it\nPrenotazione obbligatoria. È richiesta la massima puntualità.
URL:https://palazzoblu.it/visita/laboratori-per-famiglie-per-la-mostra-belle-epoque/
ATTACH;FMTTYPE=image/jpeg:https://palazzoblu.it/wp-content/uploads/2025/10/fam1.jpg
END:VEVENT
BEGIN:VEVENT
DTSTART;TZID=Europe/Rome:20251109T101500
DTEND;TZID=Europe/Rome:20251109T114500
DTSTAMP:20260420T051558
CREATED:20251030T140930Z
LAST-MODIFIED:20251030T143927Z
UID:42085-1762683300-1762688700@palazzoblu.it
SUMMARY:Laboratori per famiglie per la mostra Belle Époque
DESCRIPTION:UN ORNAMENTO IN STILE BELLE ÉPOQUE \nI laboratori per famiglia nascono con l’intento di far lavorare insieme figli e genitori\, all’interno di un’esperienza artistica unica.\nI bambini\, accompagnati dagli adulti\, verranno guidati all’interno della mostra alla scoperta dei costumi e delle abitudini del tempo attraverso il racconto visivo dei pittori esposti.\nIn laboratorio\, supportati dai genitori\, realizzeranno un ciondolo decorativo di carta e altri materiali\, partendo dalle riproduzioni dell’epoca (dagli animali di Beatrix Potter alle figurine vintage)\, ispirato agli ornamenti di fine ‘800. \nETA’ CONSIGLIATA: dai 5 ai 12 anni \nTARIFFE:\nVisita guidata + laboratorio\n€ 10\,50 bambino (ingresso mostra + visita guidata + laboratorio didattico)\n€ 14\,50 adulto (ingresso mostra + visita guidata + laboratorio didattico)\nAlmeno 1 adulto deve accompagnare il bambino\nDURATA: 1 ora e trenta minuti \nPER PRENOTARE:\nTel. 050 916 950\nMail: info@kinzicacoop.it\nPrenotazione obbligatoria. È richiesta la massima puntualità.
URL:https://palazzoblu.it/visita/laboratori-per-famiglie-per-la-mostra-belle-epoque-2/
ATTACH;FMTTYPE=image/png:https://palazzoblu.it/wp-content/uploads/2025/10/fam1-orz.png
END:VEVENT
BEGIN:VEVENT
DTSTART;TZID=Europe/Rome:20251122T150000
DTEND;TZID=Europe/Rome:20251122T163000
DTSTAMP:20260420T051558
CREATED:20251030T141206Z
LAST-MODIFIED:20251030T143752Z
UID:42088-1763823600-1763829000@palazzoblu.it
SUMMARY:Laboratori per famiglie per la mostra Belle Époque
DESCRIPTION:UN ORNAMENTO IN STILE BELLE ÉPOQUE \nI laboratori per famiglia nascono con l’intento di far lavorare insieme figli e genitori\, all’interno di un’esperienza artistica unica.\nI bambini\, accompagnati dagli adulti\, verranno guidati all’interno della mostra alla scoperta dei costumi e delle abitudini del tempo attraverso il racconto visivo dei pittori esposti.\nIn laboratorio\, supportati dai genitori\, realizzeranno un ciondolo decorativo di carta e altri materiali\, partendo dalle riproduzioni dell’epoca (dagli animali di Beatrix Potter alle figurine vintage)\, ispirato agli ornamenti di fine ‘800. \nETA’ CONSIGLIATA: dai 5 ai 12 anni \nTARIFFE:\nVisita guidata + laboratorio\n€ 10\,50 bambino (ingresso mostra + visita guidata + laboratorio didattico)\n€ 14\,50 adulto (ingresso mostra + visita guidata + laboratorio didattico)\nAlmeno 1 adulto deve accompagnare il bambino\nDURATA: 1 ora e trenta minuti \nPER PRENOTARE:\nTel. 050 916 950\nMail: info@kinzicacoop.it\nPrenotazione obbligatoria. È richiesta la massima puntualità.
URL:https://palazzoblu.it/visita/laboratori-per-famiglie-per-la-mostra-belle-epoque-2-2/
ATTACH;FMTTYPE=image/png:https://palazzoblu.it/wp-content/uploads/2025/10/fam1-orz.png
END:VEVENT
BEGIN:VEVENT
DTSTART;TZID=Europe/Rome:20251123T170000
DTEND;TZID=Europe/Rome:20251123T190000
DTSTAMP:20260420T051558
CREATED:20251103T081359Z
LAST-MODIFIED:20251103T081535Z
UID:42112-1763917200-1763924400@palazzoblu.it
SUMMARY:Volti di Dee e Donne: viaggio tra archetipi femminili nelle monete antiche
DESCRIPTION:Volti di Dee e Donne: viaggio tra archetipi femminili nelle monete antiche.\nLaboratorio di Arteterapia a cura di Stefania De Cristofaro \nIl laboratorio di arteterapia “Volti di Dee e Donne” si svolge tra le suggestive monete antiche della collezione di Palazzo Blu\, dove la presenza di figure femminili riflette ruoli e simboli della donna nel passato. Attraverso la rappresentazione di dee\, regine e donne dell’impero\, le monete raccontano storie di forza e influenza femminile\, pur in una società che le escludeva da posizioni di potere.\nIn questo percorso creativo esploreremo gli archetipi delle dee antiche\, scoprendo come possano ispirare e sostenere il nostro vissuto quotidiano. \nPRENOTAZIONE:\nPer partecipare non occorrono particolari capacità artistiche.\nIl laboratorio ha un costo di €15 \, inclusi ingresso e materiali\nÈ richiesta la prenotazione entro sabato 22 novembre\, chiamando lo 050916950 oppure scrivendo a info@kinzicacoop.it
URL:https://palazzoblu.it/visita/volti-di-dee-e-donne-viaggio-tra-archetipi-femminili-nelle-monete-antiche-2/
ATTACH;FMTTYPE=image/png:https://palazzoblu.it/wp-content/uploads/2025/11/arteterapia-low.png
END:VEVENT
BEGIN:VEVENT
DTSTART;TZID=Europe/Rome:20251221T101500
DTEND;TZID=Europe/Rome:20251221T114500
DTSTAMP:20260420T051558
CREATED:20251030T141335Z
LAST-MODIFIED:20251030T143840Z
UID:42090-1766312100-1766317500@palazzoblu.it
SUMMARY:Laboratori per famiglie per la mostra Belle Époque
DESCRIPTION:UN ORNAMENTO IN STILE BELLE ÉPOQUE \nI laboratori per famiglia nascono con l’intento di far lavorare insieme figli e genitori\, all’interno di un’esperienza artistica unica.\nI bambini\, accompagnati dagli adulti\, verranno guidati all’interno della mostra alla scoperta dei costumi e delle abitudini del tempo attraverso il racconto visivo dei pittori esposti.\nIn laboratorio\, supportati dai genitori\, realizzeranno un ciondolo decorativo di carta e altri materiali\, partendo dalle riproduzioni dell’epoca (dagli animali di Beatrix Potter alle figurine vintage)\, ispirato agli ornamenti di fine ‘800. \nETA’ CONSIGLIATA: dai 5 ai 12 anni \nTARIFFE:\nVisita guidata + laboratorio\n€ 10\,50 bambino (ingresso mostra + visita guidata + laboratorio didattico)\n€ 14\,50 adulto (ingresso mostra + visita guidata + laboratorio didattico)\nAlmeno 1 adulto deve accompagnare il bambino\nDURATA: 1 ora e trenta minuti \nPER PRENOTARE:\nTel. 050 916 950\nMail: info@kinzicacoop.it\nPrenotazione obbligatoria. È richiesta la massima puntualità.
URL:https://palazzoblu.it/visita/laboratori-per-famiglie-per-la-mostra-belle-epoque-2-2-2/
ATTACH;FMTTYPE=image/png:https://palazzoblu.it/wp-content/uploads/2025/10/fam1-orz.png
END:VEVENT
BEGIN:VEVENT
DTSTART;TZID=Europe/Rome:20251228T101500
DTEND;TZID=Europe/Rome:20251228T114500
DTSTAMP:20260420T051558
CREATED:20251030T141536Z
LAST-MODIFIED:20251030T143650Z
UID:42092-1766916900-1766922300@palazzoblu.it
SUMMARY:Laboratori per famiglie per la mostra Belle Époque
DESCRIPTION:UN ORNAMENTO IN STILE BELLE ÉPOQUE \nI laboratori per famiglia nascono con l’intento di far lavorare insieme figli e genitori\, all’interno di un’esperienza artistica unica.\nI bambini\, accompagnati dagli adulti\, verranno guidati all’interno della mostra alla scoperta dei costumi e delle abitudini del tempo attraverso il racconto visivo dei pittori esposti.\nIn laboratorio\, supportati dai genitori\, realizzeranno un ciondolo decorativo di carta e altri materiali\, partendo dalle riproduzioni dell’epoca (dagli animali di Beatrix Potter alle figurine vintage)\, ispirato agli ornamenti di fine ‘800. \nETA’ CONSIGLIATA: dai 5 ai 12 anni \nTARIFFE:\nVisita guidata + laboratorio\n€ 10\,50 bambino (ingresso mostra + visita guidata + laboratorio didattico)\n€ 14\,50 adulto (ingresso mostra + visita guidata + laboratorio didattico)\nAlmeno 1 adulto deve accompagnare il bambino\nDURATA: 1 ora e trenta minuti \nPER PRENOTARE:\nTel. 050 916 950\nMail: info@kinzicacoop.it\nPrenotazione obbligatoria. È richiesta la massima puntualità.
URL:https://palazzoblu.it/visita/laboratori-per-famiglie-per-la-mostra-belle-epoque-2-2-2-2/
ATTACH;FMTTYPE=image/png:https://palazzoblu.it/wp-content/uploads/2025/10/fam1-orz.png
END:VEVENT
BEGIN:VEVENT
DTSTART;TZID=Europe/Rome:20260106T101500
DTEND;TZID=Europe/Rome:20260106T114500
DTSTAMP:20260420T051558
CREATED:20251030T141652Z
LAST-MODIFIED:20251030T143606Z
UID:42094-1767694500-1767699900@palazzoblu.it
SUMMARY:Laboratori per famiglie per la mostra Belle Époque
DESCRIPTION:UN ORNAMENTO IN STILE BELLE ÉPOQUE \nI laboratori per famiglia nascono con l’intento di far lavorare insieme figli e genitori\, all’interno di un’esperienza artistica unica.\nI bambini\, accompagnati dagli adulti\, verranno guidati all’interno della mostra alla scoperta dei costumi e delle abitudini del tempo attraverso il racconto visivo dei pittori esposti.\nIn laboratorio\, supportati dai genitori\, realizzeranno un ciondolo decorativo di carta e altri materiali\, partendo dalle riproduzioni dell’epoca (dagli animali di Beatrix Potter alle figurine vintage)\, ispirato agli ornamenti di fine ‘800. \nETA’ CONSIGLIATA: dai 5 ai 12 anni \nTARIFFE:\nVisita guidata + laboratorio\n€ 10\,50 bambino (ingresso mostra + visita guidata + laboratorio didattico)\n€ 14\,50 adulto (ingresso mostra + visita guidata + laboratorio didattico)\nAlmeno 1 adulto deve accompagnare il bambino\nDURATA: 1 ora e trenta minuti \nPER PRENOTARE:\nTel. 050 916 950\nMail: info@kinzicacoop.it\nPrenotazione obbligatoria. È richiesta la massima puntualità.
URL:https://palazzoblu.it/visita/laboratori-per-famiglie-per-la-mostra-belle-epoque-2-2-2-2-2/
ATTACH;FMTTYPE=image/png:https://palazzoblu.it/wp-content/uploads/2025/10/fam1-orz.png
END:VEVENT
BEGIN:VEVENT
DTSTART;TZID=Europe/Rome:20260124T150000
DTEND;TZID=Europe/Rome:20260124T163000
DTSTAMP:20260420T051558
CREATED:20251030T141832Z
LAST-MODIFIED:20251030T143510Z
UID:42096-1769266800-1769272200@palazzoblu.it
SUMMARY:Laboratori per famiglie per la mostra Belle Époque
DESCRIPTION:UN ORNAMENTO IN STILE BELLE ÉPOQUE \nI laboratori per famiglia nascono con l’intento di far lavorare insieme figli e genitori\, all’interno di un’esperienza artistica unica.\nI bambini\, accompagnati dagli adulti\, verranno guidati all’interno della mostra alla scoperta dei costumi e delle abitudini del tempo attraverso il racconto visivo dei pittori esposti.\nIn laboratorio\, supportati dai genitori\, realizzeranno un ciondolo decorativo di carta e altri materiali\, partendo dalle riproduzioni dell’epoca (dagli animali di Beatrix Potter alle figurine vintage)\, ispirato agli ornamenti di fine ‘800. \nETA’ CONSIGLIATA: dai 5 ai 12 anni \nTARIFFE:\nVisita guidata + laboratorio\n€ 10\,50 bambino (ingresso mostra + visita guidata + laboratorio didattico)\n€ 14\,50 adulto (ingresso mostra + visita guidata + laboratorio didattico)\nAlmeno 1 adulto deve accompagnare il bambino\nDURATA: 1 ora e trenta minuti \nPER PRENOTARE:\nTel. 050 916 950\nMail: info@kinzicacoop.it\nPrenotazione obbligatoria. È richiesta la massima puntualità.
URL:https://palazzoblu.it/visita/laboratori-per-famiglie-per-la-mostra-belle-epoque-2-2-2-2-2-2/
ATTACH;FMTTYPE=image/png:https://palazzoblu.it/wp-content/uploads/2025/10/fam1-orz.png
END:VEVENT
BEGIN:VEVENT
DTSTART;TZID=Europe/Rome:20260208T101500
DTEND;TZID=Europe/Rome:20260208T113000
DTSTAMP:20260420T051558
CREATED:20251030T142418Z
LAST-MODIFIED:20251030T143322Z
UID:42100-1770545700-1770550200@palazzoblu.it
SUMMARY:Laboratori per famiglie per la mostra Belle Époque
DESCRIPTION:UN ORNAMENTO IN STILE BELLE ÉPOQUE \nI laboratori per famiglia nascono con l’intento di far lavorare insieme figli e genitori\, all’interno di un’esperienza artistica unica.\nI bambini\, accompagnati dagli adulti\, verranno guidati all’interno della mostra alla scoperta dei costumi e delle abitudini del tempo attraverso il racconto visivo dei pittori esposti.\nIn laboratorio\, supportati dai genitori\, realizzeranno un ciondolo decorativo di carta e altri materiali\, partendo dalle riproduzioni dell’epoca (dagli animali di Beatrix Potter alle figurine vintage)\, ispirato agli ornamenti di fine ‘800. \nETA’ CONSIGLIATA: dai 5 ai 12 anni \nTARIFFE:\nVisita guidata + laboratorio\n€ 10\,50 bambino (ingresso mostra + visita guidata + laboratorio didattico)\n€ 14\,50 adulto (ingresso mostra + visita guidata + laboratorio didattico)\nAlmeno 1 adulto deve accompagnare il bambino\nDURATA: 1 ora e trenta minuti \nPER PRENOTARE:\nTel. 050 916 950\nMail: info@kinzicacoop.it\nPrenotazione obbligatoria. È richiesta la massima puntualità.
URL:https://palazzoblu.it/visita/laboratori-per-famiglie-per-la-mostra-belle-epoque-2-2-2-2-2-2-2-2/
ATTACH;FMTTYPE=image/png:https://palazzoblu.it/wp-content/uploads/2025/10/fam1-orz.png
END:VEVENT
BEGIN:VEVENT
DTSTART;TZID=Europe/Rome:20260221T150000
DTEND;TZID=Europe/Rome:20260221T163000
DTSTAMP:20260420T051558
CREATED:20251030T142428Z
LAST-MODIFIED:20251030T143241Z
UID:42101-1771686000-1771691400@palazzoblu.it
SUMMARY:Laboratori per famiglie per la mostra Belle Époque
DESCRIPTION:UN ORNAMENTO IN STILE BELLE ÉPOQUE \nI laboratori per famiglia nascono con l’intento di far lavorare insieme figli e genitori\, all’interno di un’esperienza artistica unica.\nI bambini\, accompagnati dagli adulti\, verranno guidati all’interno della mostra alla scoperta dei costumi e delle abitudini del tempo attraverso il racconto visivo dei pittori esposti.\nIn laboratorio\, supportati dai genitori\, realizzeranno un ciondolo decorativo di carta e altri materiali\, partendo dalle riproduzioni dell’epoca (dagli animali di Beatrix Potter alle figurine vintage)\, ispirato agli ornamenti di fine ‘800. \nETA’ CONSIGLIATA: dai 5 ai 12 anni \nTARIFFE:\nVisita guidata + laboratorio\n€ 10\,50 bambino (ingresso mostra + visita guidata + laboratorio didattico)\n€ 14\,50 adulto (ingresso mostra + visita guidata + laboratorio didattico)\nAlmeno 1 adulto deve accompagnare il bambino\nDURATA: 1 ora e trenta minuti \nPER PRENOTARE:\nTel. 050 916 950\nMail: info@kinzicacoop.it\nPrenotazione obbligatoria. È richiesta la massima puntualità.
URL:https://palazzoblu.it/visita/laboratori-per-famiglie-per-la-mostra-belle-epoque-2-2-2-2-2-2-2-2-2/
ATTACH;FMTTYPE=image/png:https://palazzoblu.it/wp-content/uploads/2025/10/fam1-orz.png
END:VEVENT
BEGIN:VEVENT
DTSTART;TZID=Europe/Rome:20260307T150000
DTEND;TZID=Europe/Rome:20260307T163000
DTSTAMP:20260420T051558
CREATED:20251030T142532Z
LAST-MODIFIED:20251030T143200Z
UID:42103-1772895600-1772901000@palazzoblu.it
SUMMARY:Laboratori per famiglie per la mostra Belle Époque
DESCRIPTION:UN ORNAMENTO IN STILE BELLE ÉPOQUE \nI laboratori per famiglia nascono con l’intento di far lavorare insieme figli e genitori\, all’interno di un’esperienza artistica unica.\nI bambini\, accompagnati dagli adulti\, verranno guidati all’interno della mostra alla scoperta dei costumi e delle abitudini del tempo attraverso il racconto visivo dei pittori esposti.\nIn laboratorio\, supportati dai genitori\, realizzeranno un ciondolo decorativo di carta e altri materiali\, partendo dalle riproduzioni dell’epoca (dagli animali di Beatrix Potter alle figurine vintage)\, ispirato agli ornamenti di fine ‘800. \nETA’ CONSIGLIATA: dai 5 ai 12 anni \nTARIFFE:\nVisita guidata + laboratorio\n€ 10\,50 bambino (ingresso mostra + visita guidata + laboratorio didattico)\n€ 14\,50 adulto (ingresso mostra + visita guidata + laboratorio didattico)\nAlmeno 1 adulto deve accompagnare il bambino\nDURATA: 1 ora e trenta minuti \nPER PRENOTARE:\nTel. 050 916 950\nMail: info@kinzicacoop.it\nPrenotazione obbligatoria. È richiesta la massima puntualità.
URL:https://palazzoblu.it/visita/laboratori-per-famiglie-per-la-mostra-belle-epoque-2-2-2-2-2-2-2-2-2-2/
ATTACH;FMTTYPE=image/png:https://palazzoblu.it/wp-content/uploads/2025/10/fam1-orz.png
END:VEVENT
BEGIN:VEVENT
DTSTART;TZID=Europe/Rome:20260322T101500
DTEND;TZID=Europe/Rome:20260322T114500
DTSTAMP:20260420T051558
CREATED:20251030T142711Z
LAST-MODIFIED:20251030T143038Z
UID:42105-1774174500-1774179900@palazzoblu.it
SUMMARY:Laboratori per famiglie per la mostra Belle Époque
DESCRIPTION:UN ORNAMENTO IN STILE BELLE ÉPOQUE \nI laboratori per famiglia nascono con l’intento di far lavorare insieme figli e genitori\, all’interno di un’esperienza artistica unica.\nI bambini\, accompagnati dagli adulti\, verranno guidati all’interno della mostra alla scoperta dei costumi e delle abitudini del tempo attraverso il racconto visivo dei pittori esposti.\nIn laboratorio\, supportati dai genitori\, realizzeranno un ciondolo decorativo di carta e altri materiali\, partendo dalle riproduzioni dell’epoca (dagli animali di Beatrix Potter alle figurine vintage)\, ispirato agli ornamenti di fine ‘800. \nETA’ CONSIGLIATA: dai 5 ai 12 anni \nTARIFFE:\nVisita guidata + laboratorio\n€ 10\,50 bambino (ingresso mostra + visita guidata + laboratorio didattico)\n€ 14\,50 adulto (ingresso mostra + visita guidata + laboratorio didattico)\nAlmeno 1 adulto deve accompagnare il bambino\nDURATA: 1 ora e trenta minuti \nPER PRENOTARE:\nTel. 050 916 950\nMail: info@kinzicacoop.it\nPrenotazione obbligatoria. È richiesta la massima puntualità.
URL:https://palazzoblu.it/visita/laboratori-per-famiglie-per-la-mostra-belle-epoque-2-2-2-2-2-2-2-2-2-2-2/
ATTACH;FMTTYPE=image/png:https://palazzoblu.it/wp-content/uploads/2025/10/fam1-orz.png
END:VEVENT
END:VCALENDAR