BEGIN:VCALENDAR
VERSION:2.0
PRODID:-//Palazzo Blu - ECPv6.15.18//NONSGML v1.0//EN
CALSCALE:GREGORIAN
METHOD:PUBLISH
X-WR-CALNAME:Palazzo Blu
X-ORIGINAL-URL:https://palazzoblu.it
X-WR-CALDESC:Eventi per Palazzo Blu
REFRESH-INTERVAL;VALUE=DURATION:PT1H
X-Robots-Tag:noindex
X-PUBLISHED-TTL:PT1H
BEGIN:VTIMEZONE
TZID:Europe/Rome
BEGIN:DAYLIGHT
TZOFFSETFROM:+0100
TZOFFSETTO:+0200
TZNAME:CEST
DTSTART:20220327T010000
END:DAYLIGHT
BEGIN:STANDARD
TZOFFSETFROM:+0200
TZOFFSETTO:+0100
TZNAME:CET
DTSTART:20221030T010000
END:STANDARD
BEGIN:DAYLIGHT
TZOFFSETFROM:+0100
TZOFFSETTO:+0200
TZNAME:CEST
DTSTART:20230326T010000
END:DAYLIGHT
BEGIN:STANDARD
TZOFFSETFROM:+0200
TZOFFSETTO:+0100
TZNAME:CET
DTSTART:20231029T010000
END:STANDARD
BEGIN:DAYLIGHT
TZOFFSETFROM:+0100
TZOFFSETTO:+0200
TZNAME:CEST
DTSTART:20240331T010000
END:DAYLIGHT
BEGIN:STANDARD
TZOFFSETFROM:+0200
TZOFFSETTO:+0100
TZNAME:CET
DTSTART:20241027T010000
END:STANDARD
END:VTIMEZONE
BEGIN:VEVENT
DTSTART;TZID=Europe/Rome:20231112T101500
DTEND;TZID=Europe/Rome:20231112T114500
DTSTAMP:20260420T075917
CREATED:20231019T135244Z
LAST-MODIFIED:20231024T072508Z
UID:38950-1699784100-1699789500@palazzoblu.it
SUMMARY:Mirò ago e filo. Laboratorio per famiglie
DESCRIPTION:Dopo una breve visita in mostra in cui i bambini si relazioneranno con i diversi stili delle opere esposte\, i partecipanti realizzeranno\, con strumenti consoni alla loro età\, la composizione di Joan Mirò usando alcuni strumenti del cucito. \nETA’ CONSIGLIATA:\ndai 5 anni ai 14 anni \nDURATA COMPLESSIVA:\n(visita guidata e attività laboratoriale): 1h 30′\nÈ richiesta la massima puntualità. \nMODALITA’ DI PRENOTAZIONE:\nSi richiede la prenotazione con una settimana di anticipo rispetto alla data di visita. Prenotazione obbligatoria. \nTARIFFE:\nVisita guidata + laboratorio\n€ 10\,00 bambino (ingresso mostra + visita guidata + laboratorio didattico)\n€ 14.00 adulto (ingresso mostra + visita guidata + laboratorio didattico)\nAlmeno 1 adulto deve accompagnare il bambino\nPrenotazione obbligatoria \nINFO E PRENOTAZIONI:\nPalazzo Blu: 050 916950\nKinzica Società Cooperativa Tel. (+39) 377 1672424\nMail: info@kinzicacoop.it
URL:https://palazzoblu.it/visita/miro-ago-e-filo-laboratorio-per-famiglie-3/
LOCATION:Palazzo Blu\, Lungarno Gambacorti 9\, Pisa\, 56125\, Italia
ATTACH;FMTTYPE=image/jpeg:https://palazzoblu.it/wp-content/uploads/2023/10/Miro-ago-e-filo.jpg
END:VEVENT
BEGIN:VEVENT
DTSTART;TZID=Europe/Rome:20231111T150000
DTEND;TZID=Europe/Rome:20231111T163000
DTSTAMP:20260420T075917
CREATED:20231023T123828Z
LAST-MODIFIED:20231025T145258Z
UID:39020-1699714800-1699720200@palazzoblu.it
SUMMARY:Disegno dal vero a Palazzo Blu. Laboratorio per famiglie
DESCRIPTION:laboratorio consigliato dagli 8 ai 13 anni \nDopo un breve percorso alla scoperta della Dimora Nobiliare\, i ragazzi si cimenteranno nella riproduzione dal vero di un’opera esposta nelle sale\, scelta dall’operatrice. \nDURATA:\nun’ora e mezzo\nIl laboratorio parte al raggiungimento del numero minimo di 4 bambini\nBambini e ragazzi devono essere accompagnati da un adulto. \nNUMERO MASSIMO DI PARTECIPANTI:\n10 \nCOSTO:\n8 euro per bambino e 10 euro per adulto (ingresso mostra + visita guidata + laboratorio)
URL:https://palazzoblu.it/visita/disegno-dal-vero-a-palazzo-blu/
LOCATION:Palazzo Blu\, Lungarno Gambacorti 9\, Pisa\, 56125\, Italia
ATTACH;FMTTYPE=image/jpeg:https://palazzoblu.it/wp-content/uploads/2023/10/laboratorio-famiglie.jpg
END:VEVENT
BEGIN:VEVENT
DTSTART;TZID=Europe/Rome:20231029T153000
DTEND;TZID=Europe/Rome:20231029T173000
DTSTAMP:20260420T075917
CREATED:20231019T141806Z
LAST-MODIFIED:20231024T073719Z
UID:38981-1698593400-1698600600@palazzoblu.it
SUMMARY:Divenire in Blu. Simboli e alchimie di un colore. Laboratorio di arteterapia
DESCRIPTION:In questo laboratorio di arteterapia esploreremo i significati collettivi e personali del blu e delle sue sfumature.\nPartendo dalla storia sociale di questo colore\, considerato “negativo” nell’antichità ed oggi preferito dalla maggior parte delle persone\, ne scopriremo i significati simbolici e psicologici\, fino alla lettura alchemica che ne dà il filosofo e psicoterapeuta James Hillman.\nSeguendo le tracce del blu nella storia dell’arte\, arriveremo al “celeste color del cielo” che la facciata di Palazzo Blu aveva assunto sul finire del Settecento e che è stata riproposta con attento restauro\, così come possiamo ammirarla oggi.\nUn’occasione per conoscere meglio il Blu e cosa significa per noi\, all’inizio di un percorso che ci aprirà le tante stanze del Museo\, palazzo di arte\, cultura e cura. \nPer partecipare non occorrono particolari capacità artistiche.\nIl laboratorio ha un costo di € 15\, inclusi ingresso e materiali \nÈ richiesta la prenotazione entro venerdì 27 ottobre\, chiamando lo 050916950 oppure scrivendo a info@kinzicacoop.it o a info@palazzoblu.it
URL:https://palazzoblu.it/visita/divenire-in-blu-simboli-e-alchimie-di-un-colore/
LOCATION:Palazzo Blu\, Lungarno Gambacorti 9\, Pisa\, 56125\, Italia
ATTACH;FMTTYPE=image/jpeg:https://palazzoblu.it/wp-content/uploads/2023/10/pennelli-arteterapia.jpg
END:VEVENT
BEGIN:VEVENT
DTSTART;TZID=Europe/Rome:20231028T150000
DTEND;TZID=Europe/Rome:20231028T163000
DTSTAMP:20260420T075917
CREATED:20231019T105852Z
LAST-MODIFIED:20231019T110942Z
UID:38915-1698505200-1698510600@palazzoblu.it
SUMMARY:Mirò ago e filo. Laboratorio per famiglie
DESCRIPTION:Dopo una breve visita in mostra in cui i bambini si relazioneranno con i diversi stili delle opere esposte\, i partecipanti realizzeranno\, con strumenti consoni alla loro età\, la composizione di Joan Mirò usando alcuni strumenti del cucito. \nETA’ CONSIGLIATA: dai 5 anni ai 14 anni \nDURATA COMPLESSIVA (visita guidata e attività laboratoriale): 1h 30′\nÈ richiesta la massima puntualità. \nMODALITA’ DI PRENOTAZIONE:\nSi richiede la prenotazione con una settimana di anticipo rispetto alla data di visita. Prenotazione obbligatoria. \nTARIFFE:\nVisita guidata + laboratorio\n€ 10\,00 bambino (ingresso mostra + visita guidata + laboratorio didattico)\n€ 14.00 adulto (ingresso mostra + visita guidata + laboratorio didattico)\nAlmeno 1 adulto deve accompagnare il bambino\nPrenotazione obbligatoria \nINFO E PRENOTAZIONI\nPalazzo Blu: 050 916950\nKinzica Società Cooperativa Tel. (+39) 377 1672424\nMail: info@kinzicacoop.it
URL:https://palazzoblu.it/visita/miro-ago-e-filo-laboratorio-per-famiglie/
LOCATION:Palazzo Blu\, Lungarno Gambacorti 9\, Pisa\, 56125\, Italia
ATTACH;FMTTYPE=image/jpeg:https://palazzoblu.it/wp-content/uploads/2023/10/Miro-ago-e-filo.jpg
END:VEVENT
BEGIN:VEVENT
DTSTART;TZID=Europe/Rome:20231015T150000
DTEND;TZID=Europe/Rome:20231015T163000
DTSTAMP:20260420T075917
CREATED:20231019T111440Z
LAST-MODIFIED:20231019T111515Z
UID:38925-1697382000-1697387400@palazzoblu.it
SUMMARY:Mirò ago e filo. Laboratorio per famiglie
DESCRIPTION:Dopo una breve visita in mostra in cui i bambini si relazioneranno con i diversi stili delle opere esposte\, i partecipanti realizzeranno\, con strumenti consoni alla loro età\, la composizione di Joan Mirò usando alcuni strumenti del cucito. \nETA’ CONSIGLIATA: dai 5 anni ai 14 anni \nDURATA COMPLESSIVA (visita guidata e attività laboratoriale): 1h 30′\nÈ richiesta la massima puntualità. \nMODALITA’ DI PRENOTAZIONE:\nSi richiede la prenotazione con una settimana di anticipo rispetto alla data di visita. Prenotazione obbligatoria. \nTARIFFE:\nVisita guidata + laboratorio\n€ 10\,00 bambino (ingresso mostra + visita guidata + laboratorio didattico)\n€ 14.00 adulto (ingresso mostra + visita guidata + laboratorio didattico)\nAlmeno 1 adulto deve accompagnare il bambino\nPrenotazione obbligatoria \nINFO E PRENOTAZIONI\nPalazzo Blu: 050 916950\nKinzica Società Cooperativa Tel. (+39) 377 1672424\nMail: info@kinzicacoop.it
URL:https://palazzoblu.it/visita/miro-ago-e-filo-laboratorio-per-famiglie-2/
LOCATION:Palazzo Blu\, Lungarno Gambacorti 9\, Pisa\, 56125\, Italia
ATTACH;FMTTYPE=image/jpeg:https://palazzoblu.it/wp-content/uploads/2023/10/Miro-ago-e-filo.jpg
END:VEVENT
END:VCALENDAR