BEGIN:VCALENDAR
VERSION:2.0
PRODID:-//Palazzo Blu - ECPv6.15.20//NONSGML v1.0//EN
CALSCALE:GREGORIAN
METHOD:PUBLISH
X-WR-CALNAME:Palazzo Blu
X-ORIGINAL-URL:https://palazzoblu.it
X-WR-CALDESC:Eventi per Palazzo Blu
REFRESH-INTERVAL;VALUE=DURATION:PT1H
X-Robots-Tag:noindex
X-PUBLISHED-TTL:PT1H
BEGIN:VTIMEZONE
TZID:Europe/Rome
BEGIN:DAYLIGHT
TZOFFSETFROM:+0100
TZOFFSETTO:+0200
TZNAME:CEST
DTSTART:20220327T010000
END:DAYLIGHT
BEGIN:STANDARD
TZOFFSETFROM:+0200
TZOFFSETTO:+0100
TZNAME:CET
DTSTART:20221030T010000
END:STANDARD
BEGIN:DAYLIGHT
TZOFFSETFROM:+0100
TZOFFSETTO:+0200
TZNAME:CEST
DTSTART:20230326T010000
END:DAYLIGHT
BEGIN:STANDARD
TZOFFSETFROM:+0200
TZOFFSETTO:+0100
TZNAME:CET
DTSTART:20231029T010000
END:STANDARD
BEGIN:DAYLIGHT
TZOFFSETFROM:+0100
TZOFFSETTO:+0200
TZNAME:CEST
DTSTART:20240331T010000
END:DAYLIGHT
BEGIN:STANDARD
TZOFFSETFROM:+0200
TZOFFSETTO:+0100
TZNAME:CET
DTSTART:20241027T010000
END:STANDARD
END:VTIMEZONE
BEGIN:VEVENT
DTSTART;TZID=Europe/Rome:20231210T101500
DTEND;TZID=Europe/Rome:20231210T114500
DTSTAMP:20260423T024228
CREATED:20231023T125939Z
LAST-MODIFIED:20231025T145436Z
UID:39035-1702203300-1702208700@palazzoblu.it
SUMMARY:C’era una volta il blu e tutti gli altri colori. Laboratorio per famiglie
DESCRIPTION:Laboratorio consigliato dai 5 agli 8 anni\nDopo un breve percorso tra le sale della Collezione Permanente di Palazzo Blu alla scoperta dei colori e del loro valore emozionale\, i partecipanti svolgeranno un lavoro utilizzando in modo consapevole i colori. \nDURATA:\nun’ora e mezzo\nIl laboratorio parte al raggiungimento del numero minimo di 4 bambini\nI bambini devono essere accompagnati da un adulto. \nCOSTO:\n8 euro per bambino e 10 euro per adulto (ingresso mostra + visita guidata + laboratorio)
URL:https://palazzoblu.it/visita/cera-una-volta-il-blu-e-tutti-gli-altri-colori/
LOCATION:Palazzo Blu\, Lungarno Gambacorti 9\, Pisa\, 56125\, Italia
ATTACH;FMTTYPE=image/jpeg:https://palazzoblu.it/wp-content/uploads/2023/10/vijay-kumar-gaba-YuW9XN9Jx2s-unsplash-scaled.jpg
END:VEVENT
BEGIN:VEVENT
DTSTART;TZID=Europe/Rome:20231217T101500
DTEND;TZID=Europe/Rome:20231217T114500
DTSTAMP:20260423T024228
CREATED:20231019T141216Z
LAST-MODIFIED:20231019T141544Z
UID:38977-1702808100-1702813500@palazzoblu.it
SUMMARY:Laboratorio per famiglie Speciale Natale. Le Avanguardie all’albero
DESCRIPTION:Dopo una breve visita in mostra alla scoperta dei diversi stili delle opere esposte\, i bambini in laboratorio realizzeranno dei ciondoli da appendere all’albero di Natale con alcune forme e personaggi incontrati durante il percorso di visita. \nETA’ CONSIGLIATA:\ndai 5 anni ai 13 anni \nDURATA COMPLESSIVA:\n (visita guidata e attività laboratoriale): 1h 30′\nÈ richiesta la massima puntualità. \nMODALITA’ DI PRENOTAZIONE:\nSi richiede la prenotazione con una settimana di anticipo rispetto alla data di visita. Prenotazione obbligatoria. \nTARIFFE:\nVisita guidata + laboratorio\n€ 10\,00 bambino (ingresso mostra + visita guidata + laboratorio didattico)\n€ 14.00 adulto (ingresso mostra + visita guidata + laboratorio didattico)\nAlmeno 1 adulto deve accompagnare il bambino \nPrenotazione obbligatoria
URL:https://palazzoblu.it/visita/laboratorio-per-famiglie-speciale-natale-le-avanguardie-allalbero/
LOCATION:Palazzo Blu\, Lungarno Gambacorti 9\, Pisa\, 56125\, Italia
ATTACH;FMTTYPE=image/jpeg:https://palazzoblu.it/wp-content/uploads/2023/10/Miro-ago-e-filo.jpg
END:VEVENT
BEGIN:VEVENT
DTSTART;TZID=Europe/Rome:20231226T101500
DTEND;TZID=Europe/Rome:20231226T114500
DTSTAMP:20260423T024228
CREATED:20231019T135618Z
LAST-MODIFIED:20231024T073005Z
UID:38956-1703585700-1703591100@palazzoblu.it
SUMMARY:Mirò ago e filo. Laboratorio per famiglie
DESCRIPTION:Dopo una breve visita in mostra in cui i bambini si relazioneranno con i diversi stili delle opere esposte\, i partecipanti realizzeranno\, con strumenti consoni alla loro età\, la composizione di Joan Mirò usando alcuni strumenti del cucito. \nETA’ CONSIGLIATA:\ndai 5 anni ai 14 anni \nDURATA COMPLESSIVA:\n(visita guidata e attività laboratoriale): 1h 30′\nÈ richiesta la massima puntualità. \nMODALITA’ DI PRENOTAZIONE:\nSi richiede la prenotazione con una settimana di anticipo rispetto alla data di visita. Prenotazione obbligatoria. \nTARIFFE:\nVisita guidata + laboratorio\n€ 10\,00 bambino (ingresso mostra + visita guidata + laboratorio didattico)\n€ 14.00 adulto (ingresso mostra + visita guidata + laboratorio didattico)\nAlmeno 1 adulto deve accompagnare il bambino\nPrenotazione obbligatoria \nINFO E PRENOTAZIONI:\nPalazzo Blu: 050 916950\nKinzica Società Cooperativa Tel. (+39) 377 1672424\nMail: info@kinzicacoop.it
URL:https://palazzoblu.it/visita/miro-ago-e-filo-laboratorio-per-famiglie-3-2-2/
LOCATION:Palazzo Blu\, Lungarno Gambacorti 9\, Pisa\, 56125\, Italia
ATTACH;FMTTYPE=image/jpeg:https://palazzoblu.it/wp-content/uploads/2023/10/Miro-ago-e-filo.jpg
END:VEVENT
BEGIN:VEVENT
DTSTART;TZID=Europe/Rome:20231230T101500
DTEND;TZID=Europe/Rome:20231230T114500
DTSTAMP:20260423T024228
CREATED:20231019T135656Z
LAST-MODIFIED:20231024T073104Z
UID:38958-1703931300-1703936700@palazzoblu.it
SUMMARY:Mirò ago e filo. Laboratorio per famiglie
DESCRIPTION:Dopo una breve visita in mostra in cui i bambini si relazioneranno con i diversi stili delle opere esposte\, i partecipanti realizzeranno\, con strumenti consoni alla loro età\, la composizione di Joan Mirò usando alcuni strumenti del cucito. \nETA’ CONSIGLIATA:\ndai 5 anni ai 14 anni \nDURATA COMPLESSIVA:\n(visita guidata e attività laboratoriale): 1h 30′\nÈ richiesta la massima puntualità. \nMODALITA’ DI PRENOTAZIONE:\nSi richiede la prenotazione con una settimana di anticipo rispetto alla data di visita. Prenotazione obbligatoria. \nTARIFFE:\nVisita guidata + laboratorio\n€ 10\,00 bambino (ingresso mostra + visita guidata + laboratorio didattico)\n€ 14.00 adulto (ingresso mostra + visita guidata + laboratorio didattico)\nAlmeno 1 adulto deve accompagnare il bambino\nPrenotazione obbligatoria \nINFO E PRENOTAZIONI:\nPalazzo Blu: 050 916950\nKinzica Società Cooperativa Tel. (+39) 377 1672424\nMail: info@kinzicacoop.it
URL:https://palazzoblu.it/visita/miro-ago-e-filo-laboratorio-per-famiglie-3-2-2-2/
LOCATION:Palazzo Blu\, Lungarno Gambacorti 9\, Pisa\, 56125\, Italia
ATTACH;FMTTYPE=image/jpeg:https://palazzoblu.it/wp-content/uploads/2023/10/Miro-ago-e-filo.jpg
END:VEVENT
END:VCALENDAR