BEGIN:VCALENDAR
VERSION:2.0
PRODID:-//Palazzo Blu - ECPv6.15.20//NONSGML v1.0//EN
CALSCALE:GREGORIAN
METHOD:PUBLISH
X-ORIGINAL-URL:https://palazzoblu.it
X-WR-CALDESC:Eventi per Palazzo Blu
REFRESH-INTERVAL;VALUE=DURATION:PT1H
X-Robots-Tag:noindex
X-PUBLISHED-TTL:PT1H
BEGIN:VTIMEZONE
TZID:Europe/Rome
BEGIN:DAYLIGHT
TZOFFSETFROM:+0100
TZOFFSETTO:+0200
TZNAME:CEST
DTSTART:20230326T010000
END:DAYLIGHT
BEGIN:STANDARD
TZOFFSETFROM:+0200
TZOFFSETTO:+0100
TZNAME:CET
DTSTART:20231029T010000
END:STANDARD
BEGIN:DAYLIGHT
TZOFFSETFROM:+0100
TZOFFSETTO:+0200
TZNAME:CEST
DTSTART:20240331T010000
END:DAYLIGHT
BEGIN:STANDARD
TZOFFSETFROM:+0200
TZOFFSETTO:+0100
TZNAME:CET
DTSTART:20241027T010000
END:STANDARD
BEGIN:DAYLIGHT
TZOFFSETFROM:+0100
TZOFFSETTO:+0200
TZNAME:CEST
DTSTART:20250330T010000
END:DAYLIGHT
BEGIN:STANDARD
TZOFFSETFROM:+0200
TZOFFSETTO:+0100
TZNAME:CET
DTSTART:20251026T010000
END:STANDARD
END:VTIMEZONE
BEGIN:VEVENT
DTSTART;TZID=Europe/Rome:20240204T101500
DTEND;TZID=Europe/Rome:20240204T114500
DTSTAMP:20260422T213847
CREATED:20231019T135849Z
LAST-MODIFIED:20231024T073341Z
UID:38964-1707041700-1707047100@palazzoblu.it
SUMMARY:Mirò ago e filo. Laboratorio per famiglie
DESCRIPTION:Dopo una breve visita in mostra in cui i bambini si relazioneranno con i diversi stili delle opere esposte\, i partecipanti realizzeranno\, con strumenti consoni alla loro età\, la composizione di Joan Mirò usando alcuni strumenti del cucito. \nETA’ CONSIGLIATA:\ndai 5 anni ai 14 anni \nDURATA COMPLESSIVA:\n(visita guidata e attività laboratoriale): 1h 30′\nÈ richiesta la massima puntualità. \nMODALITA’ DI PRENOTAZIONE:\nSi richiede la prenotazione con una settimana di anticipo rispetto alla data di visita. Prenotazione obbligatoria. \nTARIFFE:\nVisita guidata + laboratorio\n€ 10\,00 bambino (ingresso mostra + visita guidata + laboratorio didattico)\n€ 14.00 adulto (ingresso mostra + visita guidata + laboratorio didattico)\nAlmeno 1 adulto deve accompagnare il bambino\nPrenotazione obbligatoria \nINFO E PRENOTAZIONI:\nPalazzo Blu: 050 916950\nKinzica Società Cooperativa Tel. (+39) 377 1672424\nMail: info@kinzicacoop.it
URL:https://palazzoblu.it/visita/miro-ago-e-filo-laboratorio-per-famiglie-4-febbraio-2024/
LOCATION:Palazzo Blu\, Lungarno Gambacorti 9\, Pisa\, 56125\, Italia
ATTACH;FMTTYPE=image/jpeg:https://palazzoblu.it/wp-content/uploads/2023/10/Miro-ago-e-filo.jpg
END:VEVENT
BEGIN:VEVENT
DTSTART;TZID=Europe/Rome:20240210T101500
DTEND;TZID=Europe/Rome:20240210T114500
DTSTAMP:20260422T213847
CREATED:20240125T104241Z
LAST-MODIFIED:20240125T110711Z
UID:39467-1707560100-1707565500@palazzoblu.it
SUMMARY:Laboratorio speciale: In viaggio con il cavallo Noah
DESCRIPTION:Laboratorio ispirato al libro per bambini sulla mostra Le Avanguardie “Noah e le avanguardie del ‘900”\nDopo una visita propedeutica alla mostra delle Avanguardie in compagnia del cavallo Noah\, protagonista del libro per bambini dedicato alla mostra “Noah e le avanguardie del 900”\, i bambini realizzeranno in laboratorio un diorama ispirato alle avventure del giovane puledro tra i dipinti esposti a Palazzo Blu. \nETA’ CONSIGLIATA:\ndai 5 anni ai 12 anni \nDURATA COMPLESSIVA:\n(visita guidata e attività laboratoriale): 1h 30′\nÈ richiesta la massima puntualità. \nMODALITA’ DI PRENOTAZIONE:\nSi richiede la prenotazione con una settimana di anticipo rispetto alla data di visita. Prenotazione obbligatoria. \nTARIFFE:\nVisita guidata + laboratorio\n€ 10\,00 bambino (ingresso mostra + visita guidata + laboratorio didattico)\n€ 14.00 adulto (ingresso mostra + visita guidata + laboratorio didattico)\nAlmeno 1 adulto deve accompagnare il bambino\nPrenotazione obbligatoria \nINFO E PRENOTAZIONI:\nPalazzo Blu: 050 916950\nKinzica Società Cooperativa Tel. (+39) 377 1672424\nMail: info@kinzicacoop.it
URL:https://palazzoblu.it/visita/laboratorio-speciale-in-viaggio-con-il-cavallo-noah/
LOCATION:Palazzo Blu\, Lungarno Gambacorti 9\, Pisa\, 56125\, Italia
ATTACH;FMTTYPE=image/jpeg:https://palazzoblu.it/wp-content/uploads/2024/01/noah.jpeg
END:VEVENT
BEGIN:VEVENT
DTSTART;TZID=Europe/Rome:20240210T150000
DTEND;TZID=Europe/Rome:20240210T163000
DTSTAMP:20260422T213847
CREATED:20231023T131320Z
LAST-MODIFIED:20231025T145937Z
UID:39040-1707577200-1707582600@palazzoblu.it
SUMMARY:C’era una volta il blu e tutti gli altri colori. Laboratorio per famiglie
DESCRIPTION:Laboratorio consigliato dai 5 agli 8 anni\nDopo un breve percorso tra le sale della Collezione Permanente di Palazzo Blu alla scoperta dei colori e del loro valore emozionale\, i partecipanti svolgeranno un lavoro utilizzando in modo consapevole i colori. \nDURATA:\nun’ora e mezzo\nIl laboratorio parte al raggiungimento del numero minimo di 4 bambini\nI bambini devono essere accompagnati da un adulto. \nCOSTO:\n8 euro per bambino e 10 euro per adulto (ingresso mostra + visita guidata + laboratorio)
URL:https://palazzoblu.it/visita/cera-una-volta-il-blu-e-tutti-gli-altri-colori-2/
LOCATION:Palazzo Blu\, Lungarno Gambacorti 9\, Pisa\, 56125\, Italia
ATTACH;FMTTYPE=image/jpeg:https://palazzoblu.it/wp-content/uploads/2023/10/vijay-kumar-gaba-YuW9XN9Jx2s-unsplash-scaled.jpg
END:VEVENT
BEGIN:VEVENT
DTSTART;TZID=Europe/Rome:20240217T150000
DTEND;TZID=Europe/Rome:20240217T163000
DTSTAMP:20260422T213847
CREATED:20231019T135937Z
LAST-MODIFIED:20231019T135959Z
UID:38966-1708182000-1708187400@palazzoblu.it
SUMMARY:Mirò ago e filo. Laboratorio per famiglie
DESCRIPTION:Dopo una breve visita in mostra in cui i bambini si relazioneranno con i diversi stili delle opere esposte\, i partecipanti realizzeranno\, con strumenti consoni alla loro età\, la composizione di Joan Mirò usando alcuni strumenti del cucito. \nETA’ CONSIGLIATA:\ndai 5 anni ai 14 anni \nDURATA COMPLESSIVA:\n(visita guidata e attività laboratoriale): 1h 30′\nÈ richiesta la massima puntualità. \nMODALITA’ DI PRENOTAZIONE:\nSi richiede la prenotazione con una settimana di anticipo rispetto alla data di visita. Prenotazione obbligatoria. \nTARIFFE:\nVisita guidata + laboratorio\n€ 10\,00 bambino (ingresso mostra + visita guidata + laboratorio didattico)\n€ 14.00 adulto (ingresso mostra + visita guidata + laboratorio didattico)\nAlmeno 1 adulto deve accompagnare il bambino\nPrenotazione obbligatoria \nINFO E PRENOTAZIONI:\nPalazzo Blu: 050 916950\nKinzica Società Cooperativa Tel. (+39) 377 1672424\nMail: info@kinzicacoop.it
URL:https://palazzoblu.it/visita/miro-ago-e-filo-laboratorio-per-famiglie-3-2-2-2-2-2-2-2/
LOCATION:Palazzo Blu\, Lungarno Gambacorti 9\, Pisa\, 56125\, Italia
ATTACH;FMTTYPE=image/jpeg:https://palazzoblu.it/wp-content/uploads/2023/10/Miro-ago-e-filo.jpg
END:VEVENT
BEGIN:VEVENT
DTSTART;TZID=Europe/Rome:20240224T150000
DTEND;TZID=Europe/Rome:20240224T163000
DTSTAMP:20260422T213847
CREATED:20231023T125412Z
LAST-MODIFIED:20231025T150359Z
UID:39033-1708786800-1708792200@palazzoblu.it
SUMMARY:La caccia al dettaglio! Laboratorio per famiglie
DESCRIPTION:Dopo un breve percorso tra le sale della Collezione Permanente di Palazzo Blu\, i partecipanti saranno invitati a collaborare tra di loro per ricercare all’interno delle sale del palazzo dei dettagli sfuggiti alle loro opere. Alla fine ogni partecipante realizzerà il proprio museo dei dettagli di Palazzo Blu. \nETA’ CONSIGLIATA:\nlaboratorio consigliato dai 6 ai 10 anni \nDURATA COMPLESSIVA:\nun’ora e mezzo \nIl laboratorio parte al raggiungimento del numero minimo di 4 bambini\nI bambini devono essere accompagnati da un adulto. \nTARIFFE:\n8 euro per bambino e 10 euro per adulto (ingresso mostra + visita guidata + laboratorio)
URL:https://palazzoblu.it/visita/la-caccia-al-dettaglio-25-novembre-2/
LOCATION:Palazzo Blu\, Lungarno Gambacorti 9\, Pisa\, 56125\, Italia
ATTACH;FMTTYPE=image/jpeg:https://palazzoblu.it/wp-content/uploads/2023/10/laboratori-famiglie-2.jpg
END:VEVENT
BEGIN:VEVENT
DTSTART;TZID=Europe/Rome:20240225T153000
DTEND;TZID=Europe/Rome:20240225T170000
DTSTAMP:20260422T213847
CREATED:20240215T084813Z
LAST-MODIFIED:20240215T085629Z
UID:39595-1708875000-1708880400@palazzoblu.it
SUMMARY:Radici. Laboratorio di arteterapia nelle Fondamenta di Palazzo Blu
DESCRIPTION:a cura di Stefania De Cristofaro\, arteterapeuta \nIn questo laboratorio esploreremo le Fondamenta di Palazzo Blu: un’esposizione archeologica permanente che ci racconta la storia del Palazzo e di una parte di Pisa a partire dall’anno Mille.\nAttraverso l’osservazione di oggetti di uso quotidiano che raccontano i modi di abitare\, le abitudini\, le attività e i passatempi di un tempo\, proveremo a riscrivere nuove piccole storie. La creazione delle immagini sarà facilitata dagli oggetti che incontreremo: processo creativo e rielaborazione condivisa permetteranno al gruppo di creare un’archeologia\n(con)temporanea ed attuale.\nIl laboratorio sarà un momento per ripensare il Museo come luogo di benessere e cura : l’arteterapia\, infatti\, è “una modalità che si serve del linguaggio non verbale dell’arte per la crescita personale\, la comprensione di sé e la trasformazione\, ed è un mezzo per collegare ciò che abbiamo dentro – pensieri\, sentimenti e percezioni – con la realtà esterna e le esperienze di vita.” (Cathy Malchiodi) \nPer partecipare non occorrono particolari capacità artistiche. \nIl laboratorio ha un costo di Euro 15\, inclusi ingresso e materiali;\nè richiesta la prenotazione entro sabato 24 febbraio chiamando lo 050.916950 oppure scrivendo a info@kinzicacoop.it o a info@palazzoblu.it
URL:https://palazzoblu.it/visita/radici-laboratorio-di-arteterapia-nelle-fondamenta-di-palazzo-blu/
LOCATION:Palazzo Blu\, Lungarno Gambacorti 9\, Pisa\, 56125\, Italia
ATTACH;FMTTYPE=image/jpeg:https://palazzoblu.it/wp-content/uploads/2024/02/20240208_100531.jpg
END:VEVENT
END:VCALENDAR