BEGIN:VCALENDAR
VERSION:2.0
PRODID:-//Palazzo Blu - ECPv6.15.20//NONSGML v1.0//EN
CALSCALE:GREGORIAN
METHOD:PUBLISH
X-WR-CALNAME:Palazzo Blu
X-ORIGINAL-URL:https://palazzoblu.it
X-WR-CALDESC:Eventi per Palazzo Blu
REFRESH-INTERVAL;VALUE=DURATION:PT1H
X-Robots-Tag:noindex
X-PUBLISHED-TTL:PT1H
BEGIN:VTIMEZONE
TZID:Europe/Rome
BEGIN:DAYLIGHT
TZOFFSETFROM:+0100
TZOFFSETTO:+0200
TZNAME:CEST
DTSTART:20230326T010000
END:DAYLIGHT
BEGIN:STANDARD
TZOFFSETFROM:+0200
TZOFFSETTO:+0100
TZNAME:CET
DTSTART:20231029T010000
END:STANDARD
BEGIN:DAYLIGHT
TZOFFSETFROM:+0100
TZOFFSETTO:+0200
TZNAME:CEST
DTSTART:20240331T010000
END:DAYLIGHT
BEGIN:STANDARD
TZOFFSETFROM:+0200
TZOFFSETTO:+0100
TZNAME:CET
DTSTART:20241027T010000
END:STANDARD
BEGIN:DAYLIGHT
TZOFFSETFROM:+0100
TZOFFSETTO:+0200
TZNAME:CEST
DTSTART:20250330T010000
END:DAYLIGHT
BEGIN:STANDARD
TZOFFSETFROM:+0200
TZOFFSETTO:+0100
TZNAME:CET
DTSTART:20251026T010000
END:STANDARD
END:VTIMEZONE
BEGIN:VEVENT
DTSTART;TZID=Europe/Rome:20240303T101500
DTEND;TZID=Europe/Rome:20240303T114500
DTSTAMP:20260422T182101
CREATED:20231024T073359Z
LAST-MODIFIED:20231024T073503Z
UID:39060-1709460900-1709466300@palazzoblu.it
SUMMARY:Mirò ago e filo. Laboratorio per famiglie
DESCRIPTION:Dopo una breve visita in mostra in cui i bambini si relazioneranno con i diversi stili delle opere esposte\, i partecipanti realizzeranno\, con strumenti consoni alla loro età\, la composizione di Joan Mirò usando alcuni strumenti del cucito. \nETA’ CONSIGLIATA:\ndai 5 anni ai 14 anni \nDURATA COMPLESSIVA:\n(visita guidata e attività laboratoriale): 1h 30′\nÈ richiesta la massima puntualità. \nMODALITA’ DI PRENOTAZIONE:\nSi richiede la prenotazione con una settimana di anticipo rispetto alla data di visita. Prenotazione obbligatoria. \nTARIFFE:\nVisita guidata + laboratorio\n€ 10\,00 bambino (ingresso mostra + visita guidata + laboratorio didattico)\n€ 14.00 adulto (ingresso mostra + visita guidata + laboratorio didattico)\nAlmeno 1 adulto deve accompagnare il bambino\nPrenotazione obbligatoria \nINFO E PRENOTAZIONI:\nPalazzo Blu: 050 916950\nKinzica Società Cooperativa Tel. (+39) 377 1672424\nMail: info@kinzicacoop.it
URL:https://palazzoblu.it/visita/miro-ago-e-filo-laboratorio-per-famiglie-3-marzo-2/
LOCATION:Palazzo Blu\, Lungarno Gambacorti 9\, Pisa\, 56125\, Italia
ATTACH;FMTTYPE=image/jpeg:https://palazzoblu.it/wp-content/uploads/2023/10/Miro-ago-e-filo.jpg
END:VEVENT
BEGIN:VEVENT
DTSTART;TZID=Europe/Rome:20240303T153000
DTEND;TZID=Europe/Rome:20240303T170000
DTSTAMP:20260422T182101
CREATED:20240214T134038Z
LAST-MODIFIED:20240227T151452Z
UID:39543-1709479800-1709485200@palazzoblu.it
SUMMARY:Arte insieme. Visita-laboratorio di cooperative learning alla Collezione Permanente di Palazzo Blu
DESCRIPTION:La Collezione Permanente di Palazzo Blu è uno spazio aperto alla città che permette di approfondire la conoscenza del territorio locale attraverso un affascinante percorso che intreccia arte e storia. Il museo\, che ha sede in un’antica dimora nobiliare\, connette grazie alla sua peculiare natura la sfera pubblica della rappresentazione alla dimensione privata dell’abitazione e invita ad esplorare i rapporti tra i rispettivi ambiti.\nLa visita laboratorio Arte insieme propone un approccio inedito di condivisione delle suggestioni offerte dal confronto con le collezioni del Palazzo e con gli altri partecipanti: questi ultimi verranno invitati a scambiare sensazioni e opinioni facendo uso di strutture-gioco e metodologie del cooperative learning che favoriscono un’interazione divertente e non giudicante.  \nIl laboratorio è condotto da Isabella Ghilarducci\, docente\, formatrice in apprendimento cooperativo e autrice\, tra l’altro\, di Progettare e apprendere le competenze con il cooperative learning (Milano: Franco Angeli\, 2017). \nDURATA COMPLESSIVA:\n(visita guidata e attività laboratoriale): 1h 30′\nÈ richiesta la massima puntualità. \nMODALITA’ DI PRENOTAZIONE:\nPrenotazione obbligatoria. \nTARIFFE:\n€ 15\,00\nPrenotazione obbligatoria \nINFO E PRENOTAZIONI:\nPalazzo Blu: 050 916950\nKinzica Società Cooperativa Tel. (+39) 377 1672424\nMail: info@kinzicacoop.it
URL:https://palazzoblu.it/visita/arte-insieme-visita-laboratorio-di-cooperative-learning-alla-collezione-permanente-di-palazzo-blu/
LOCATION:Palazzo Blu\, Lungarno Gambacorti 9\, Pisa\, 56125\, Italia
ATTACH;FMTTYPE=image/jpeg:https://palazzoblu.it/wp-content/uploads/2024/02/ghilarducci-laboratorio.jpg
END:VEVENT
BEGIN:VEVENT
DTSTART;TZID=Europe/Rome:20240309T101500
DTEND;TZID=Europe/Rome:20240309T114500
DTSTAMP:20260422T182101
CREATED:20240214T134913Z
LAST-MODIFIED:20240214T135039Z
UID:39551-1709979300-1709984700@palazzoblu.it
SUMMARY:Disegno dal vero a Palazzo Blu. Laboratorio per famiglie
DESCRIPTION:laboratorio consigliato dagli 8 ai 13 anni \nDopo un breve percorso alla scoperta della Dimora Nobiliare\, i ragazzi si cimenteranno nella riproduzione dal vero di un’opera esposta nelle sale\, scelta dall’operatrice. \nDURATA:\nun’ora e mezzo\nIl laboratorio parte al raggiungimento del numero minimo di 4 bambini\nBambini e ragazzi devono essere accompagnati da un adulto. \nNUMERO MASSIMO DI PARTECIPANTI:\n10 \nCOSTO:\n8 euro per bambino e 10 euro per adulto (ingresso mostra + visita guidata + laboratorio)
URL:https://palazzoblu.it/visita/disegno-dal-vero-a-palazzo-blu-marzo/
LOCATION:Palazzo Blu\, Lungarno Gambacorti 9\, Pisa\, 56125\, Italia
ATTACH;FMTTYPE=image/jpeg:https://palazzoblu.it/wp-content/uploads/2023/10/laboratorio-famiglie.jpg
END:VEVENT
BEGIN:VEVENT
DTSTART;TZID=Europe/Rome:20240316T150000
DTEND;TZID=Europe/Rome:20240316T163000
DTSTAMP:20260422T182101
CREATED:20231019T140015Z
LAST-MODIFIED:20231019T140113Z
UID:38968-1710601200-1710606600@palazzoblu.it
SUMMARY:Mirò ago e filo. Laboratorio per famiglie
DESCRIPTION:Dopo una breve visita in mostra in cui i bambini si relazioneranno con i diversi stili delle opere esposte\, i partecipanti realizzeranno\, con strumenti consoni alla loro età\, la composizione di Joan Mirò usando alcuni strumenti del cucito. \nETA’ CONSIGLIATA:\ndai 5 anni ai 14 anni \nDURATA COMPLESSIVA:\n(visita guidata e attività laboratoriale): 1h 30′\nÈ richiesta la massima puntualità. \nMODALITA’ DI PRENOTAZIONE:\nSi richiede la prenotazione con una settimana di anticipo rispetto alla data di visita. Prenotazione obbligatoria. \nTARIFFE:\nVisita guidata + laboratorio\n€ 10\,00 bambino (ingresso mostra + visita guidata + laboratorio didattico)\n€ 14.00 adulto (ingresso mostra + visita guidata + laboratorio didattico)\nAlmeno 1 adulto deve accompagnare il bambino\nPrenotazione obbligatoria \nINFO E PRENOTAZIONI:\nPalazzo Blu: 050 916950\nKinzica Società Cooperativa Tel. (+39) 377 1672424\nMail: info@kinzicacoop.it
URL:https://palazzoblu.it/visita/miro-ago-e-filo-laboratorio-per-famiglie-16-marzo/
LOCATION:Palazzo Blu\, Lungarno Gambacorti 9\, Pisa\, 56125\, Italia
ATTACH;FMTTYPE=image/jpeg:https://palazzoblu.it/wp-content/uploads/2023/10/Miro-ago-e-filo.jpg
END:VEVENT
BEGIN:VEVENT
DTSTART;TZID=Europe/Rome:20240323T101500
DTEND;TZID=Europe/Rome:20240323T114500
DTSTAMP:20260422T182101
CREATED:20240214T135507Z
LAST-MODIFIED:20240214T135612Z
UID:39557-1711188900-1711194300@palazzoblu.it
SUMMARY:C’era una volta il blu e tutti gli altri colori. Laboratorio per famiglie
DESCRIPTION:Laboratorio consigliato dai 5 agli 8 anni\nDopo un breve percorso tra le sale della Collezione Permanente di Palazzo Blu alla scoperta dei colori e del loro valore emozionale\, i partecipanti svolgeranno un lavoro utilizzando in modo consapevole i colori. \nDURATA:\nun’ora e mezzo\nIl laboratorio parte al raggiungimento del numero minimo di 4 bambini\nI bambini devono essere accompagnati da un adulto. \nCOSTO:\n8 euro per bambino e 10 euro per adulto (ingresso mostra + visita guidata + laboratorio)
URL:https://palazzoblu.it/visita/cera-una-volta-il-blu-e-tutti-gli-altri-colori-marzo/
LOCATION:Palazzo Blu\, Lungarno Gambacorti 9\, Pisa\, 56125\, Italia
ATTACH;FMTTYPE=image/jpeg:https://palazzoblu.it/wp-content/uploads/2023/10/vijay-kumar-gaba-YuW9XN9Jx2s-unsplash-scaled.jpg
END:VEVENT
BEGIN:VEVENT
DTSTART;TZID=Europe/Rome:20240324T101500
DTEND;TZID=Europe/Rome:20240324T114500
DTSTAMP:20260422T182101
CREATED:20240125T103633Z
LAST-MODIFIED:20240125T110423Z
UID:39465-1711275300-1711280700@palazzoblu.it
SUMMARY:Mirò ago e filo. Laboratorio per famiglie
DESCRIPTION:Dopo una breve visita in mostra in cui i bambini si relazioneranno con i diversi stili delle opere esposte\, i partecipanti realizzeranno\, con strumenti consoni alla loro età\, la composizione di Joan Mirò usando alcuni strumenti del cucito. \nETA’ CONSIGLIATA:\ndai 5 anni ai 14 anni \nDURATA COMPLESSIVA:\n(visita guidata e attività laboratoriale): 1h 30′\nÈ richiesta la massima puntualità. \nMODALITA’ DI PRENOTAZIONE:\nSi richiede la prenotazione con una settimana di anticipo rispetto alla data di visita. Prenotazione obbligatoria. \nTARIFFE:\nVisita guidata + laboratorio\n€ 10\,00 bambino (ingresso mostra + visita guidata + laboratorio didattico)\n€ 14.00 adulto (ingresso mostra + visita guidata + laboratorio didattico)\nAlmeno 1 adulto deve accompagnare il bambino\nPrenotazione obbligatoria \nINFO E PRENOTAZIONI:\nPalazzo Blu: 050 916950\nKinzica Società Cooperativa Tel. (+39) 377 1672424\nMail: info@kinzicacoop.it
URL:https://palazzoblu.it/visita/miro-ago-e-filo-laboratorio-per-famiglie-10-febbraio-2024/
LOCATION:Palazzo Blu\, Lungarno Gambacorti 9\, Pisa\, 56125\, Italia
ATTACH;FMTTYPE=image/jpeg:https://palazzoblu.it/wp-content/uploads/2023/10/Miro-ago-e-filo.jpg
END:VEVENT
END:VCALENDAR