BEGIN:VCALENDAR
VERSION:2.0
PRODID:-//Palazzo Blu - ECPv6.15.20//NONSGML v1.0//EN
CALSCALE:GREGORIAN
METHOD:PUBLISH
X-ORIGINAL-URL:https://palazzoblu.it
X-WR-CALDESC:Eventi per Palazzo Blu
REFRESH-INTERVAL;VALUE=DURATION:PT1H
X-Robots-Tag:noindex
X-PUBLISHED-TTL:PT1H
BEGIN:VTIMEZONE
TZID:Europe/Rome
BEGIN:DAYLIGHT
TZOFFSETFROM:+0100
TZOFFSETTO:+0200
TZNAME:CEST
DTSTART:20230326T010000
END:DAYLIGHT
BEGIN:STANDARD
TZOFFSETFROM:+0200
TZOFFSETTO:+0100
TZNAME:CET
DTSTART:20231029T010000
END:STANDARD
BEGIN:DAYLIGHT
TZOFFSETFROM:+0100
TZOFFSETTO:+0200
TZNAME:CEST
DTSTART:20240331T010000
END:DAYLIGHT
BEGIN:STANDARD
TZOFFSETFROM:+0200
TZOFFSETTO:+0100
TZNAME:CET
DTSTART:20241027T010000
END:STANDARD
BEGIN:DAYLIGHT
TZOFFSETFROM:+0100
TZOFFSETTO:+0200
TZNAME:CEST
DTSTART:20250330T010000
END:DAYLIGHT
BEGIN:STANDARD
TZOFFSETFROM:+0200
TZOFFSETTO:+0100
TZNAME:CET
DTSTART:20251026T010000
END:STANDARD
END:VTIMEZONE
BEGIN:VEVENT
DTSTART;TZID=Europe/Rome:20241013T110000
DTEND;TZID=Europe/Rome:20241013T123000
DTSTAMP:20260422T152135
CREATED:20241002T131427Z
LAST-MODIFIED:20241025T102904Z
UID:40385-1728817200-1728822600@palazzoblu.it
SUMMARY:Laboratorio didattico per famiglie. Un museo a impatto zero
DESCRIPTION:Nella Giornata nazionale delle famiglie al museo a Palazzo Blu sarà possibile partecipare al laboratorio gratuito “Un museo a impatto zero”.\nI piccoli partecipanti attraverseranno le sale della Collezione Permanente alla scoperta delle opere lì custodite: verrà posta particolare attenzione ai temi della conservazione e del restauro delle opere e della gestione degli spazi espositivi. Successivamente\, in laboratorio\, i bambini realizzeranno la loro idea di Museo Green usando materiali di riciclo. \nLa durata laboratorio: 1h 30 min \nper info e prenotazione:\nTel: +39 050 916 950\nE-Mail: info@palazzoblu.it\nE-Mail: info@kinzicacoop.it
URL:https://palazzoblu.it/visita/laboratorio-didattico-per-famiglie-un-museo-a-impatto-zero/
LOCATION:Palazzo Blu\, Lungarno Gambacorti 9\, Pisa\, 56125\, Italia
ATTACH;FMTTYPE=image/jpeg:https://palazzoblu.it/wp-content/uploads/2024/10/lab06.jpg
END:VEVENT
BEGIN:VEVENT
DTSTART;TZID=Europe/Rome:20241020T101500
DTEND;TZID=Europe/Rome:20241020T114500
DTSTAMP:20260422T152135
CREATED:20241028T170532Z
LAST-MODIFIED:20241028T170824Z
UID:40616-1729419300-1729424700@palazzoblu.it
SUMMARY:Laboratorio: Gli esploratori dell’infinito. Dal romanzo di Yambo al graphic novel
DESCRIPTION:Le nuove sale espositive all’interno della Collezione Permanente di Palazzo Blu ospitano dal 4 ottobre la mostra “Gli esploratori dell’infinito. Dal romanzo di Yambo al graphic novel”: dal libro fantastico Gli esploratori dell’infinito del pisano Enrico Novelli\, in arte Yambo\, è stato tratto un caleidoscopico fumetto.\nAll’interno delle sale di Palazzo Blu i partecipanti verranno coinvolti nella rocambolesca avventura dei due protagonisti Giorgio e Harry\, che li trasporteranno in giro tra i pianeti del sistema solare e a fare incontri inattesi. In laboratorio i bambini rappresenteranno a loro modo una parte di questa ‘spaziale’ avventura. \nProgetti a cura della dott.ssa Francesca Pagliai \nLaboratorio consigliato dai 6 agli 10 anni. \nLa durata laboratorio: 1h 30 min\nCosto: 8 euro per bambino e 10 euro per adulto (ingresso mostra + visita guidata + laboratorio) \nper info e prenotazione:\nTel: +39 050 916 950\nE-Mail: info@palazzoblu.it\nE-Mail: info@kinzicacoop.it
URL:https://palazzoblu.it/visita/gli-esploratori-dellinfinito-dal-romanzo-di-yambo-al-graphic-novel/
LOCATION:Palazzo Blu\, Lungarno Gambacorti 9\, Pisa\, 56125\, Italia
ATTACH;FMTTYPE=image/jpeg:https://palazzoblu.it/wp-content/uploads/2024/10/Yambo.jpg
END:VEVENT
BEGIN:VEVENT
DTSTART;TZID=Europe/Rome:20241031T150000
DTEND;TZID=Europe/Rome:20241031T163000
DTSTAMP:20260422T152135
CREATED:20241025T091638Z
LAST-MODIFIED:20241025T102825Z
UID:40480-1730386800-1730392200@palazzoblu.it
SUMMARY:Speciale Halloween. Laboratorio su Yambo
DESCRIPTION:All’interno delle sale di Palazzo Blu i partecipanti verranno coinvolti nella rocambolesca avventura dei due protagonisti Giorgio e Harry\, che li trasporteranno in giro tra i pianeti del sistema solare e a fare incontri inattesi. In laboratorio i bambini creeranno una maschera mostruosa ispirata ai personaggi spaziali incontrati nel racconto.\nProgetti a cura della dott.ssa Francesca Pagliai \nLaboratorio consigliato dai 6 agli 10 anni. \nLa durata laboratorio: 1h 30 min\nCosto: 8 euro per bambino e 10 euro per adulto (ingresso mostra + visita guidata + laboratorio) \nper info e prenotazione:\nTel: +39 050 916 950\nE-Mail: info@palazzoblu.it\nE-Mail: info@kinzicacoop.it
URL:https://palazzoblu.it/visita/speciale-halloween-laboratorio-su-yambo/
LOCATION:Palazzo Blu\, Lungarno Gambacorti 9\, Pisa\, 56125\, Italia
ATTACH;FMTTYPE=image/jpeg:https://palazzoblu.it/wp-content/uploads/2024/10/Yambo.jpg
END:VEVENT
END:VCALENDAR