BEGIN:VCALENDAR
VERSION:2.0
PRODID:-//Palazzo Blu - ECPv6.15.20//NONSGML v1.0//EN
CALSCALE:GREGORIAN
METHOD:PUBLISH
X-WR-CALNAME:Palazzo Blu
X-ORIGINAL-URL:https://palazzoblu.it
X-WR-CALDESC:Eventi per Palazzo Blu
REFRESH-INTERVAL;VALUE=DURATION:PT1H
X-Robots-Tag:noindex
X-PUBLISHED-TTL:PT1H
BEGIN:VTIMEZONE
TZID:Europe/Rome
BEGIN:DAYLIGHT
TZOFFSETFROM:+0100
TZOFFSETTO:+0200
TZNAME:CEST
DTSTART:20230326T010000
END:DAYLIGHT
BEGIN:STANDARD
TZOFFSETFROM:+0200
TZOFFSETTO:+0100
TZNAME:CET
DTSTART:20231029T010000
END:STANDARD
BEGIN:DAYLIGHT
TZOFFSETFROM:+0100
TZOFFSETTO:+0200
TZNAME:CEST
DTSTART:20240331T010000
END:DAYLIGHT
BEGIN:STANDARD
TZOFFSETFROM:+0200
TZOFFSETTO:+0100
TZNAME:CET
DTSTART:20241027T010000
END:STANDARD
BEGIN:DAYLIGHT
TZOFFSETFROM:+0100
TZOFFSETTO:+0200
TZNAME:CEST
DTSTART:20250330T010000
END:DAYLIGHT
BEGIN:STANDARD
TZOFFSETFROM:+0200
TZOFFSETTO:+0100
TZNAME:CET
DTSTART:20251026T010000
END:STANDARD
END:VTIMEZONE
BEGIN:VEVENT
DTSTART;TZID=Europe/Rome:20241107T180000
DTEND;TZID=Europe/Rome:20241107T190000
DTSTAMP:20260422T134258
CREATED:20241025T092534Z
LAST-MODIFIED:20241025T102757Z
UID:40486-1731002400-1731006000@palazzoblu.it
SUMMARY:Il giovedì dello studente: visite guidate per singoli – mostra Hokusai
DESCRIPTION:Le visite guidate\, della durata di un’ora\, sono rivolte agli studenti dell’Università di Pisa (Unipi\, SNS e SSSUP) e si effettuano due giovedì al mese con partenza alle ore 18:00. \nTariffe:\nPrenotazione obbligatoria\nBiglietti ridotto: € 7\,00 a persona\nVisita guidata: € 6\,00 a persona \nDurata: 60 minuti \nCondizioni generali: la visita guidata si effettuata solo al raggiungimento di 10 partecipanti \nper info e prenotazione:\nTel: +39 050 916 950\nE-Mail: info@palazzoblu.it\nE-Mail: info@kinzicacoop.it
URL:https://palazzoblu.it/visita/il-giovedi-dello-studente-visite-guidate-per-singoli-mostra-hokusai/
LOCATION:Palazzo Blu\, Lungarno Gambacorti 9\, Pisa\, 56125\, Italia
ATTACH;FMTTYPE=image/jpeg:https://palazzoblu.it/wp-content/uploads/2024/10/3.-Giovedi-dello-studente.jpg
END:VEVENT
BEGIN:VEVENT
DTSTART;TZID=Europe/Rome:20241109T150000
DTEND;TZID=Europe/Rome:20241109T163000
DTSTAMP:20260422T134258
CREATED:20241028T170919Z
LAST-MODIFIED:20241028T171031Z
UID:40619-1731164400-1731169800@palazzoblu.it
SUMMARY:Laboratorio: Gli esploratori dell’infinito. Dal romanzo di Yambo al graphic novel
DESCRIPTION:Le nuove sale espositive all’interno della Collezione Permanente di Palazzo Blu ospitano dal 4 ottobre la mostra “Gli esploratori dell’infinito. Dal romanzo di Yambo al graphic novel”: dal libro fantastico Gli esploratori dell’infinito del pisano Enrico Novelli\, in arte Yambo\, è stato tratto un caleidoscopico fumetto.\nAll’interno delle sale di Palazzo Blu i partecipanti verranno coinvolti nella rocambolesca avventura dei due protagonisti Giorgio e Harry\, che li trasporteranno in giro tra i pianeti del sistema solare e a fare incontri inattesi. In laboratorio i bambini rappresenteranno a loro modo una parte di questa ‘spaziale’ avventura. \nProgetti a cura della dott.ssa Francesca Pagliai \nLaboratorio consigliato dai 6 agli 10 anni. \nLa durata laboratorio: 1h 30 min\nCosto: 8 euro per bambino e 10 euro per adulto (ingresso mostra + visita guidata + laboratorio) \nper info e prenotazione:\nTel: +39 050 916 950\nE-Mail: info@palazzoblu.it\nE-Mail: info@kinzicacoop.it
URL:https://palazzoblu.it/visita/gli-esploratori-dellinfinito-dal-romanzo-di-yambo-al-graphic-novel-2/
LOCATION:Palazzo Blu\, Lungarno Gambacorti 9\, Pisa\, 56125\, Italia
ATTACH;FMTTYPE=image/jpeg:https://palazzoblu.it/wp-content/uploads/2024/10/Yambo.jpg
END:VEVENT
BEGIN:VEVENT
DTSTART;TZID=Europe/Rome:20241110T101500
DTEND;TZID=Europe/Rome:20241110T114500
DTSTAMP:20260422T134258
CREATED:20241025T093101Z
LAST-MODIFIED:20241025T102723Z
UID:40492-1731233700-1731239100@palazzoblu.it
SUMMARY:Giappone ad origami:  Laboratorio per famiglia
DESCRIPTION:I laboratori per famiglia nascono con l’intento di far lavorare insieme figli e genitori\, all’ interno di un’esperienza artistica unica.\nI bambini\, accompagnati dagli adulti\, scopriranno il mondo affascinante raccontato dall’ artista giapponese Hokusai attraverso un percorso guidato all’ interno della mostra. Successivamente in laboratorio metteranno alla prova le loro capacità realizzando due origami giapponesi. \nEtà consigliata dai 6 ai 12 anni \nTariffe:\nPrenotazione obbligatoria\n€ 10\,00 bambino (ingresso mostra + visita guidata + laboratorio didattico)\n€ 14.00 adulto (ingresso mostra + visita guidata + laboratorio didattico)\nAlmeno 1 adulto deve accompagnare il bambino \nDurata: 1:30 minuti \nper info e prenotazione:\nTel: +39 050 916 950\nE-Mail: info@palazzoblu.it\nE-Mail: info@kinzicacoop.it
URL:https://palazzoblu.it/visita/giappone-ad-origami-laboratorio-per-famiglia/
LOCATION:Palazzo Blu\, Lungarno Gambacorti 9\, Pisa\, 56125\, Italia
ATTACH;FMTTYPE=image/jpeg:https://palazzoblu.it/wp-content/uploads/2024/10/4.-Giappone-ad-origami.jpg
END:VEVENT
BEGIN:VEVENT
DTSTART;TZID=Europe/Rome:20241110T160000
DTEND;TZID=Europe/Rome:20241110T170000
DTSTAMP:20260422T134258
CREATED:20241028T135654Z
LAST-MODIFIED:20241028T135906Z
UID:40570-1731254400-1731258000@palazzoblu.it
SUMMARY:Visita guidata: Un viaggio nel tempo
DESCRIPTION:Attraversando le Fondamenta\, il piano nobile e la Pinacoteca\, scopriremo l’arte pisana dal Trecento a oggi e ripercorreremo la storia delle famiglie cha hanno abitato quello che oggi conosciamo come Palazzo Blu.  \nTariffe:\nPrenotazione obbligatoria\nBiglietto ridotto: € 3\,00 a persona\nVisita guidata: € 6\,00 a persona \nDurata: 1h \nCondizioni generali: la visita guidata verrà effettuata solo al raggiungimento di 10 partecipanti \nper info e prenotazione:\nTel: +39 050 916 950\nE-Mail: info@palazzoblu.it\nE-Mail: info@kinzicacoop.it
URL:https://palazzoblu.it/visita/visita-guidata-un-viaggio-nel-tempo/
LOCATION:Palazzo Blu\, Lungarno Gambacorti 9\, Pisa\, 56125\, Italia
ATTACH;FMTTYPE=image/jpeg:https://palazzoblu.it/wp-content/uploads/2024/10/5.-Un-viaggio-nel-tempo-scaled.jpg
END:VEVENT
BEGIN:VEVENT
DTSTART;TZID=Europe/Rome:20241116T150000
DTEND;TZID=Europe/Rome:20241116T163000
DTSTAMP:20260422T134258
CREATED:20241028T171121Z
LAST-MODIFIED:20241028T171205Z
UID:40621-1731769200-1731774600@palazzoblu.it
SUMMARY:Giappone ad origami:  Laboratorio per famiglia
DESCRIPTION:I laboratori per famiglia nascono con l’intento di far lavorare insieme figli e genitori\, all’ interno di un’esperienza artistica unica.\nI bambini\, accompagnati dagli adulti\, scopriranno il mondo affascinante raccontato dall’ artista giapponese Hokusai attraverso un percorso guidato all’ interno della mostra. Successivamente in laboratorio metteranno alla prova le loro capacità realizzando due origami giapponesi. \nEtà consigliata dai 6 ai 12 anni \nTariffe:\nPrenotazione obbligatoria\n€ 10\,00 bambino (ingresso mostra + visita guidata + laboratorio didattico)\n€ 14.00 adulto (ingresso mostra + visita guidata + laboratorio didattico)\nAlmeno 1 adulto deve accompagnare il bambino \nDurata: 1:30 minuti \nper info e prenotazione:\nTel: +39 050 916 950\nE-Mail: info@palazzoblu.it\nE-Mail: info@kinzicacoop.it
URL:https://palazzoblu.it/visita/giappone-ad-origami-laboratorio-per-famiglia-2/
LOCATION:Palazzo Blu\, Lungarno Gambacorti 9\, Pisa\, 56125\, Italia
ATTACH;FMTTYPE=image/jpeg:https://palazzoblu.it/wp-content/uploads/2024/10/4.-Giappone-ad-origami.jpg
END:VEVENT
BEGIN:VEVENT
DTSTART;TZID=Europe/Rome:20241117T160000
DTEND;TZID=Europe/Rome:20241117T170000
DTSTAMP:20260422T134258
CREATED:20241025T093730Z
LAST-MODIFIED:20241025T102659Z
UID:40498-1731859200-1731862800@palazzoblu.it
SUMMARY:Visita guidata: dalla guerra alla liberazione. Pisa 1940-1945
DESCRIPTION:La visita guidata ripercorrerà i momenti che dal drammatico conflitto porteranno la città di Pisa al 2 settembre del 1944\, giorno della sua liberazione. \nTariffe:\nPrenotazione obbligatoria\nBiglietto ridotto: € 3\,00 a persona\nVisita guidata: € 6\,00 a persona \nCondizioni generali: la visita guidata verrà effettuata solo al raggiungimento di 10 partecipanti \nDurata: 60 minuti \nper info e prenotazione:\nTel: +39 050 916 950\nE-Mail: info@palazzoblu.it\nE-Mail: info@kinzicacoop.it
URL:https://palazzoblu.it/visita/visita-guidata-dalla-guerra-alla-liberazione-pisa-1940-1945/
LOCATION:Palazzo Blu\, Lungarno Gambacorti 9\, Pisa\, 56125\, Italia
ATTACH;FMTTYPE=image/jpeg:https://palazzoblu.it/wp-content/uploads/2024/10/6.-Dalla-guerra-alla-Liberazione.jpeg
END:VEVENT
BEGIN:VEVENT
DTSTART;TZID=Europe/Rome:20241123T150000
DTEND;TZID=Europe/Rome:20241123T163000
DTSTAMP:20260422T134258
CREATED:20241025T102230Z
LAST-MODIFIED:20241025T102555Z
UID:40508-1732374000-1732379400@palazzoblu.it
SUMMARY:C’era una volta il blu e tutti gli altri colori
DESCRIPTION:laboratorio consigliato dai 5 ai 8 anni\nDopo un breve percorso tra le sale della Collezione Permanente di Palazzo Blu alla scoperta dei colori e del loro valore emozionale\, i partecipanti svolgeranno un lavoro utilizzando in modo consapevole i colori.\nIl laboratorio parte al raggiungimento del numero minimo di 4 bambini\nI bambini devono essere accompagnati da un adulto. \nTariffe:\n8 euro per bambino e 10 euro per adulto (ingresso mostra + visita guidata + laboratorio) \nDurata: 1h 30 minuti \nper info e prenotazione:\nTel: +39 050 916 950\nE-Mail: info@palazzoblu.it\nE-Mail: info@kinzicacoop.it
URL:https://palazzoblu.it/visita/cera-una-volta-il-blu-e-tutti-gli-altri-colori-3/
LOCATION:Palazzo Blu\, Lungarno Gambacorti 9\, Pisa\, 56125\, Italia
ATTACH;FMTTYPE=image/jpeg:https://palazzoblu.it/wp-content/uploads/2024/10/7.-Cera-una-volta-il-blu.jpg
END:VEVENT
BEGIN:VEVENT
DTSTART;TZID=Europe/Rome:20241123T170000
DTEND;TZID=Europe/Rome:20241123T190000
DTSTAMP:20260422T134258
CREATED:20241028T133919Z
LAST-MODIFIED:20241028T134426Z
UID:40561-1732381200-1732388400@palazzoblu.it
SUMMARY:Laboratorio: Volti di Dee e Donne: viaggio tra archetipi femminili nelle monete antiche
DESCRIPTION:Laboratorio di Arteterapia a cura di Stefania De Cristofaro\n \nIl laboratorio di arteterapia “Volti di Dee e Donne” si svolge tra le suggestive monete antiche della collezione di Palazzo Blu\, dove la presenza di figure femminili riflette ruoli e simboli della donna nel passato. Attraverso la rappresentazione di dee\, regine e donne dell’impero\, le monete raccontano storie di forza e influenza femminile\, pur in una società che le escludeva da posizioni di potere.\nIn questo percorso creativo esploreremo gli archetipi delle dee antiche\, scoprendo come possano ispirare e sostenere il nostro vissuto quotidiano. \nPer partecipare non occorrono particolari capacità artistiche.\nIl laboratorio ha un costo di € 15\,00 inclusi ingresso e materiali \nDurata: 2h \nCondizioni generali: È richiesta la prenotazione entro venerdì 22 novembre \nper info e prenotazione:\nTel: +39 050 916 950\nE-Mail: info@palazzoblu.it\nE-Mail: info@kinzicacoop.it
URL:https://palazzoblu.it/visita/volti-di-dee-e-donne-viaggio-tra-archetipi-femminili-nelle-monete-antiche/
LOCATION:Palazzo Blu\, Lungarno Gambacorti 9\, Pisa\, 56125\, Italia
ATTACH;FMTTYPE=image/jpeg:https://palazzoblu.it/wp-content/uploads/2024/10/9.-Volti-di-Dee-e-Donne-scaled.jpg
END:VEVENT
BEGIN:VEVENT
DTSTART;TZID=Europe/Rome:20241124T101500
DTEND;TZID=Europe/Rome:20241124T114500
DTSTAMP:20260422T134258
CREATED:20241028T171319Z
LAST-MODIFIED:20241028T171412Z
UID:40623-1732443300-1732448700@palazzoblu.it
SUMMARY:Giappone ad origami:  Laboratorio per famiglia
DESCRIPTION:I laboratori per famiglia nascono con l’intento di far lavorare insieme figli e genitori\, all’ interno di un’esperienza artistica unica.\nI bambini\, accompagnati dagli adulti\, scopriranno il mondo affascinante raccontato dall’ artista giapponese Hokusai attraverso un percorso guidato all’ interno della mostra. Successivamente in laboratorio metteranno alla prova le loro capacità realizzando due origami giapponesi. \nEtà consigliata dai 6 ai 12 anni \nTariffe:\nPrenotazione obbligatoria\n€ 10\,00 bambino (ingresso mostra + visita guidata + laboratorio didattico)\n€ 14.00 adulto (ingresso mostra + visita guidata + laboratorio didattico)\nAlmeno 1 adulto deve accompagnare il bambino \nDurata: 1:30 minuti \nper info e prenotazione:\nTel: +39 050 916 950\nE-Mail: info@palazzoblu.it\nE-Mail: info@kinzicacoop.it
URL:https://palazzoblu.it/visita/giappone-ad-origami-laboratorio-per-famiglia-2-2/
LOCATION:Palazzo Blu\, Lungarno Gambacorti 9\, Pisa\, 56125\, Italia
ATTACH;FMTTYPE=image/jpeg:https://palazzoblu.it/wp-content/uploads/2024/10/4.-Giappone-ad-origami.jpg
END:VEVENT
BEGIN:VEVENT
DTSTART;TZID=Europe/Rome:20241128T180000
DTEND;TZID=Europe/Rome:20241128T190000
DTSTAMP:20260422T134258
CREATED:20241028T163845Z
LAST-MODIFIED:20241028T164018Z
UID:40579-1732816800-1732820400@palazzoblu.it
SUMMARY:Il giovedì dello studente: visite guidate per singoli – mostra Hokusai
DESCRIPTION:Le visite guidate\, della durata di un’ora\, sono rivolte agli studenti dell’Università di Pisa (Unipi\, SNS e SSSUP) e si effettuano due giovedì al mese con partenza alle ore 18:00. \nTariffe:\nPrenotazione obbligatoria\nBiglietti ridotto: € 7\,00 a persona\nVisita guidata: € 6\,00 a persona \nDurata: 60 minuti \nCondizioni generali: la visita guidata si effettuata solo al raggiungimento di 10 partecipanti \nper info e prenotazione:\nTel: +39 050 916 950\nE-Mail: info@palazzoblu.it\nE-Mail: info@kinzicacoop.it
URL:https://palazzoblu.it/visita/il-giovedi-dello-studente-visite-guidate-per-singoli-mostra-hokusai-2/
LOCATION:Palazzo Blu\, Lungarno Gambacorti 9\, Pisa\, 56125\, Italia
ATTACH;FMTTYPE=image/jpeg:https://palazzoblu.it/wp-content/uploads/2024/10/3.-Giovedi-dello-studente.jpg
END:VEVENT
END:VCALENDAR