BEGIN:VCALENDAR
VERSION:2.0
PRODID:-//Palazzo Blu - ECPv6.15.20//NONSGML v1.0//EN
CALSCALE:GREGORIAN
METHOD:PUBLISH
X-WR-CALNAME:Palazzo Blu
X-ORIGINAL-URL:https://palazzoblu.it
X-WR-CALDESC:Eventi per Palazzo Blu
REFRESH-INTERVAL;VALUE=DURATION:PT1H
X-Robots-Tag:noindex
X-PUBLISHED-TTL:PT1H
BEGIN:VTIMEZONE
TZID:Europe/Rome
BEGIN:DAYLIGHT
TZOFFSETFROM:+0100
TZOFFSETTO:+0200
TZNAME:CEST
DTSTART:20240331T010000
END:DAYLIGHT
BEGIN:STANDARD
TZOFFSETFROM:+0200
TZOFFSETTO:+0100
TZNAME:CET
DTSTART:20241027T010000
END:STANDARD
BEGIN:DAYLIGHT
TZOFFSETFROM:+0100
TZOFFSETTO:+0200
TZNAME:CEST
DTSTART:20250330T010000
END:DAYLIGHT
BEGIN:STANDARD
TZOFFSETFROM:+0200
TZOFFSETTO:+0100
TZNAME:CET
DTSTART:20251026T010000
END:STANDARD
BEGIN:DAYLIGHT
TZOFFSETFROM:+0100
TZOFFSETTO:+0200
TZNAME:CEST
DTSTART:20260329T010000
END:DAYLIGHT
BEGIN:STANDARD
TZOFFSETFROM:+0200
TZOFFSETTO:+0100
TZNAME:CET
DTSTART:20261025T010000
END:STANDARD
END:VTIMEZONE
BEGIN:VEVENT
DTSTART;TZID=Europe/Rome:20250105T100000
DTEND;TZID=Europe/Rome:20250105T110000
DTSTAMP:20260422T104238
CREATED:20241028T170155Z
LAST-MODIFIED:20241028T170219Z
UID:40614-1736071200-1736074800@palazzoblu.it
SUMMARY:Visita guidata: Un pranzo a palazzo. la tavola apparecchiata di una dimora signorile
DESCRIPTION:La visita guidata sarà l’occasione per scoprire la sfarzosa sala da pranzo del Palazzo\, realizzata da Nicola Torricini e Angiolo Giannini per Alberto Giuli. I partecipanti alla visita potranno ammirare una tavola signorile\, apparecchiata con un bellissimo servizio Ginori\, e con argenteria e cristalli del XIX secolo. \nTariffe:\nPrenotazione obbligatoria\nBiglietto ridotto: € 3\,00 a persona\nVisita guidata: € 6\,00 a persona \nDurata: 1h \nCondizioni generali: la visita guidata verrà effettuata solo al raggiungimento di 10 partecipanti \nper info e prenotazione:\nTel: +39 050 916 950\nE-Mail: info@palazzoblu.it\nE-Mail: info@kinzicacoop.it
URL:https://palazzoblu.it/visita/visita-guidata-un-pranzo-a-palazzo-la-tavola-apparecchiata-di-una-dimora-signorile-2/
LOCATION:Palazzo Blu\, Lungarno Gambacorti 9\, Pisa\, 56125\, Italia
ATTACH;FMTTYPE=image/jpeg:https://palazzoblu.it/wp-content/uploads/2024/10/11.-Un-pranzo-a-palazzo-scaled.jpg
END:VEVENT
BEGIN:VEVENT
DTSTART;TZID=Europe/Rome:20250106T101500
DTEND;TZID=Europe/Rome:20250106T114500
DTSTAMP:20260422T104238
CREATED:20241028T171944Z
LAST-MODIFIED:20241028T172024Z
UID:40629-1736158500-1736163900@palazzoblu.it
SUMMARY:Giappone ad origami:  Laboratorio per famiglia
DESCRIPTION:I laboratori per famiglia nascono con l’intento di far lavorare insieme figli e genitori\, all’ interno di un’esperienza artistica unica.\nI bambini\, accompagnati dagli adulti\, scopriranno il mondo affascinante raccontato dall’ artista giapponese Hokusai attraverso un percorso guidato all’ interno della mostra. Successivamente in laboratorio metteranno alla prova le loro capacità realizzando due origami giapponesi. \nEtà consigliata dai 6 ai 12 anni \nTariffe:\nPrenotazione obbligatoria\n€ 10\,00 bambino (ingresso mostra + visita guidata + laboratorio didattico)\n€ 14.00 adulto (ingresso mostra + visita guidata + laboratorio didattico)\nAlmeno 1 adulto deve accompagnare il bambino \nDurata: 1:30 minuti \nper info e prenotazione:\nTel: +39 050 916 950\nE-Mail: info@palazzoblu.it\nE-Mail: info@kinzicacoop.it
URL:https://palazzoblu.it/visita/giappone-ad-origami-laboratorio-per-famiglia-2-2-2-2-2/
LOCATION:Palazzo Blu\, Lungarno Gambacorti 9\, Pisa\, 56125\, Italia
ATTACH;FMTTYPE=image/jpeg:https://palazzoblu.it/wp-content/uploads/2024/10/4.-Giappone-ad-origami.jpg
END:VEVENT
BEGIN:VEVENT
DTSTART;TZID=Europe/Rome:20250112T101500
DTEND;TZID=Europe/Rome:20250112T114500
DTSTAMP:20260422T104238
CREATED:20241028T172114Z
LAST-MODIFIED:20241028T172228Z
UID:40631-1736676900-1736682300@palazzoblu.it
SUMMARY:C’era una volta il blu e tutti gli altri colori
DESCRIPTION:laboratorio consigliato dai 5 ai 8 anni\nDopo un breve percorso tra le sale della Collezione Permanente di Palazzo Blu alla scoperta dei colori e del loro valore emozionale\, i partecipanti svolgeranno un lavoro utilizzando in modo consapevole i colori.\nIl laboratorio parte al raggiungimento del numero minimo di 4 bambini\nI bambini devono essere accompagnati da un adulto. \nTariffe:\n8 euro per bambino e 10 euro per adulto (ingresso mostra + visita guidata + laboratorio) \nDurata: 1h 30 minuti \nper info e prenotazione:\nTel: +39 050 916 950\nE-Mail: info@palazzoblu.it\nE-Mail: info@kinzicacoop.it
URL:https://palazzoblu.it/visita/cera-una-volta-il-blu-e-tutti-gli-altri-colori-3-2/
LOCATION:Palazzo Blu\, Lungarno Gambacorti 9\, Pisa\, 56125\, Italia
ATTACH;FMTTYPE=image/jpeg:https://palazzoblu.it/wp-content/uploads/2024/10/7.-Cera-una-volta-il-blu.jpg
END:VEVENT
BEGIN:VEVENT
DTSTART;TZID=Europe/Rome:20250112T160000
DTEND;TZID=Europe/Rome:20250112T170000
DTSTAMP:20260422T104238
CREATED:20241028T165207Z
LAST-MODIFIED:20241028T165235Z
UID:40596-1736697600-1736701200@palazzoblu.it
SUMMARY:Visita guidata: Un viaggio nel tempo
DESCRIPTION:Attraversando le Fondamenta\, il piano nobile e la Pinacoteca\, scopriremo l’arte pisana dal Trecento a oggi e ripercorreremo la storia delle famiglie cha hanno abitato quello che oggi conosciamo come Palazzo Blu.  \nTariffe:\nPrenotazione obbligatoria\nBiglietto ridotto: € 3\,00 a persona\nVisita guidata: € 6\,00 a persona \nDurata: 1h \nCondizioni generali: la visita guidata verrà effettuata solo al raggiungimento di 10 partecipanti \nper info e prenotazione:\nTel: +39 050 916 950\nE-Mail: info@palazzoblu.it\nE-Mail: info@kinzicacoop.it
URL:https://palazzoblu.it/visita/visita-guidata-un-viaggio-nel-tempo-2-2/
LOCATION:Palazzo Blu\, Lungarno Gambacorti 9\, Pisa\, 56125\, Italia
ATTACH;FMTTYPE=image/jpeg:https://palazzoblu.it/wp-content/uploads/2024/10/5.-Un-viaggio-nel-tempo-scaled.jpg
END:VEVENT
BEGIN:VEVENT
DTSTART;TZID=Europe/Rome:20250119T101500
DTEND;TZID=Europe/Rome:20250119T114500
DTSTAMP:20260422T104238
CREATED:20241028T172313Z
LAST-MODIFIED:20241028T172342Z
UID:40633-1737281700-1737287100@palazzoblu.it
SUMMARY:Giappone ad origami:  Laboratorio per famiglia
DESCRIPTION:I laboratori per famiglia nascono con l’intento di far lavorare insieme figli e genitori\, all’ interno di un’esperienza artistica unica.\nI bambini\, accompagnati dagli adulti\, scopriranno il mondo affascinante raccontato dall’ artista giapponese Hokusai attraverso un percorso guidato all’ interno della mostra. Successivamente in laboratorio metteranno alla prova le loro capacità realizzando due origami giapponesi. \nEtà consigliata dai 6 ai 12 anni \nTariffe:\nPrenotazione obbligatoria\n€ 10\,00 bambino (ingresso mostra + visita guidata + laboratorio didattico)\n€ 14.00 adulto (ingresso mostra + visita guidata + laboratorio didattico)\nAlmeno 1 adulto deve accompagnare il bambino \nDurata: 1:30 minuti \nper info e prenotazione:\nTel: +39 050 916 950\nE-Mail: info@palazzoblu.it\nE-Mail: info@kinzicacoop.it
URL:https://palazzoblu.it/visita/giappone-ad-origami-laboratorio-per-famiglia-2-2-2-2-2-2/
LOCATION:Palazzo Blu\, Lungarno Gambacorti 9\, Pisa\, 56125\, Italia
ATTACH;FMTTYPE=image/jpeg:https://palazzoblu.it/wp-content/uploads/2024/10/4.-Giappone-ad-origami.jpg
END:VEVENT
BEGIN:VEVENT
DTSTART;TZID=Europe/Rome:20250125T150000
DTEND;TZID=Europe/Rome:20250125T163000
DTSTAMP:20260422T104238
CREATED:20241028T172431Z
LAST-MODIFIED:20241028T172502Z
UID:40635-1737817200-1737822600@palazzoblu.it
SUMMARY:Giappone ad origami:  Laboratorio per famiglia
DESCRIPTION:I laboratori per famiglia nascono con l’intento di far lavorare insieme figli e genitori\, all’ interno di un’esperienza artistica unica.\nI bambini\, accompagnati dagli adulti\, scopriranno il mondo affascinante raccontato dall’ artista giapponese Hokusai attraverso un percorso guidato all’ interno della mostra. Successivamente in laboratorio metteranno alla prova le loro capacità realizzando due origami giapponesi. \nEtà consigliata dai 6 ai 12 anni \nTariffe:\nPrenotazione obbligatoria\n€ 10\,00 bambino (ingresso mostra + visita guidata + laboratorio didattico)\n€ 14.00 adulto (ingresso mostra + visita guidata + laboratorio didattico)\nAlmeno 1 adulto deve accompagnare il bambino \nDurata: 1:30 minuti \nper info e prenotazione:\nTel: +39 050 916 950\nE-Mail: info@palazzoblu.it\nE-Mail: info@kinzicacoop.it
URL:https://palazzoblu.it/visita/giappone-ad-origami-laboratorio-per-famiglia-2-2-2-2-2-2-2/
LOCATION:Palazzo Blu\, Lungarno Gambacorti 9\, Pisa\, 56125\, Italia
ATTACH;FMTTYPE=image/jpeg:https://palazzoblu.it/wp-content/uploads/2024/10/4.-Giappone-ad-origami.jpg
END:VEVENT
BEGIN:VEVENT
DTSTART;TZID=Europe/Rome:20250126T160000
DTEND;TZID=Europe/Rome:20250126T170000
DTSTAMP:20260422T104238
CREATED:20241028T165701Z
LAST-MODIFIED:20241028T165754Z
UID:40606-1737907200-1737910800@palazzoblu.it
SUMMARY:Visita guidata: dalla guerra alla liberazione. Pisa 1940-1945
DESCRIPTION:La visita guidata ripercorrerà i momenti che dal drammatico conflitto porteranno la città di Pisa al 2 settembre del 1944\, giorno della sua liberazione. \nTariffe:\nPrenotazione obbligatoria\nBiglietto ridotto: € 3\,00 a persona\nVisita guidata: € 6\,00 a persona \nCondizioni generali: la visita guidata verrà effettuata solo al raggiungimento di 10 partecipanti \nDurata: 60 minuti \nper info e prenotazione:\nTel: +39 050 916 950\nE-Mail: info@palazzoblu.it\nE-Mail: info@kinzicacoop.it
URL:https://palazzoblu.it/visita/visita-guidata-dalla-guerra-alla-liberazione-pisa-1940-1945-2-2/
LOCATION:Palazzo Blu\, Lungarno Gambacorti 9\, Pisa\, 56125\, Italia
ATTACH;FMTTYPE=image/jpeg:https://palazzoblu.it/wp-content/uploads/2024/10/6.-Dalla-guerra-alla-Liberazione.jpeg
END:VEVENT
END:VCALENDAR