BEGIN:VCALENDAR
VERSION:2.0
PRODID:-//Palazzo Blu - ECPv6.15.18//NONSGML v1.0//EN
CALSCALE:GREGORIAN
METHOD:PUBLISH
X-ORIGINAL-URL:https://palazzoblu.it
X-WR-CALDESC:Eventi per Palazzo Blu
REFRESH-INTERVAL;VALUE=DURATION:PT1H
X-Robots-Tag:noindex
X-PUBLISHED-TTL:PT1H
BEGIN:VTIMEZONE
TZID:Europe/Rome
BEGIN:DAYLIGHT
TZOFFSETFROM:+0100
TZOFFSETTO:+0200
TZNAME:CEST
DTSTART:20240331T010000
END:DAYLIGHT
BEGIN:STANDARD
TZOFFSETFROM:+0200
TZOFFSETTO:+0100
TZNAME:CET
DTSTART:20241027T010000
END:STANDARD
BEGIN:DAYLIGHT
TZOFFSETFROM:+0100
TZOFFSETTO:+0200
TZNAME:CEST
DTSTART:20250330T010000
END:DAYLIGHT
BEGIN:STANDARD
TZOFFSETFROM:+0200
TZOFFSETTO:+0100
TZNAME:CET
DTSTART:20251026T010000
END:STANDARD
BEGIN:DAYLIGHT
TZOFFSETFROM:+0100
TZOFFSETTO:+0200
TZNAME:CEST
DTSTART:20260329T010000
END:DAYLIGHT
BEGIN:STANDARD
TZOFFSETFROM:+0200
TZOFFSETTO:+0100
TZNAME:CET
DTSTART:20261025T010000
END:STANDARD
END:VTIMEZONE
BEGIN:VEVENT
DTSTART;TZID=Europe/Rome:20250511T103000
DTEND;TZID=Europe/Rome:20250511T123000
DTSTAMP:20260420T014902
CREATED:20250424T065439Z
LAST-MODIFIED:20250429T124627Z
UID:41250-1746959400-1746966600@palazzoblu.it
SUMMARY:Laboratorio speciale sul libro per bambini "fiaba di gatto"
DESCRIPTION:“Fiaba di gatto” è un libro pensato e scritto dalla psicologa Maria Rosa Ceragioli e illustrato dall’artista Graziano Guiso. Parla di affetto\, distacco e indipendenza.\nPensando a questo\, domenica 11 maggio alle ore 10:30\, Palazzo Blu ospiterà gli autori del libro per dare vita ad un’attività laboratoriale a più mani con gli operatori didattici di Kinzica.\nDopo la lettura della storia da parte dell’autrice\, i partecipanti saranno invitati a porre domande e curiosità in una sorta di intervista spontanea\, che li porterà a discutere delle tematiche affrontate nel libro e a creare dei paralleli con la loro esperienza.\nSuccessivamente i piccoli si misureranno con vari strumenti artistici\, dalle matite ai pastelli\, per esprimere con il disegno quello che “Fiaba di gatto” gli ha trasmesso.\nPer l’occasione saranno esposte le tavole originali presenti nel libro. \nATTIVITA’ GRATUITA \nMODALITA’ DI PRENOTAZIONE \nPartecipanti: età consigliata dai 5 anni. I bambini devono essere accompagnati da un adulto Durata: 1h e 30’\nPrenotazione obbligatoria \nMail: info@palazzoblu.it\nTel: 050.916950
URL:https://palazzoblu.it/visita/laboratorio-speciale-sul-libro-per-bambini-fiaba-di-gatto/
ATTACH;FMTTYPE=image/jpeg:https://palazzoblu.it/wp-content/uploads/2025/04/gatto.jpg
END:VEVENT
END:VCALENDAR