BEGIN:VCALENDAR
VERSION:2.0
PRODID:-//Palazzo Blu - ECPv6.15.18//NONSGML v1.0//EN
CALSCALE:GREGORIAN
METHOD:PUBLISH
X-WR-CALNAME:Palazzo Blu
X-ORIGINAL-URL:https://palazzoblu.it
X-WR-CALDESC:Eventi per Palazzo Blu
REFRESH-INTERVAL;VALUE=DURATION:PT1H
X-Robots-Tag:noindex
X-PUBLISHED-TTL:PT1H
BEGIN:VTIMEZONE
TZID:Europe/Rome
BEGIN:DAYLIGHT
TZOFFSETFROM:+0100
TZOFFSETTO:+0200
TZNAME:CEST
DTSTART:20240331T010000
END:DAYLIGHT
BEGIN:STANDARD
TZOFFSETFROM:+0200
TZOFFSETTO:+0100
TZNAME:CET
DTSTART:20241027T010000
END:STANDARD
BEGIN:DAYLIGHT
TZOFFSETFROM:+0100
TZOFFSETTO:+0200
TZNAME:CEST
DTSTART:20250330T010000
END:DAYLIGHT
BEGIN:STANDARD
TZOFFSETFROM:+0200
TZOFFSETTO:+0100
TZNAME:CET
DTSTART:20251026T010000
END:STANDARD
BEGIN:DAYLIGHT
TZOFFSETFROM:+0100
TZOFFSETTO:+0200
TZNAME:CEST
DTSTART:20260329T010000
END:DAYLIGHT
BEGIN:STANDARD
TZOFFSETFROM:+0200
TZOFFSETTO:+0100
TZNAME:CET
DTSTART:20261025T010000
END:STANDARD
END:VTIMEZONE
BEGIN:VEVENT
DTSTART;TZID=Europe/Rome:20250928T103000
DTEND;TZID=Europe/Rome:20250928T123000
DTSTAMP:20260419T200503
CREATED:20250918T081931Z
LAST-MODIFIED:20250918T134740Z
UID:41890-1759055400-1759062600@palazzoblu.it
SUMMARY:Museo creattivo. Laboratorio gratuito di arteterapia museale
DESCRIPTION:Museo creattivo. Laboratorio gratuito di arteterapia museale della dott.ssa Stefania De Cristofaro\nin occasione della Giornata Europea dell’Arteterapia\, in collaborazione con Apiart \nPrenotazione: entro venerdì 26 settembre\, chiamando lo 050.916950 oppure scrivendo a info@kinzicacoop.it o a stefania@vitacreattiva.it \nPartecipanti: rivolto a un gruppo massimo 10 partecipanti per garantire un clima intimo e rispettoso\, in cui ciascuno possa vivere pienamente l’esperienza.\nNon è richiesta alcuna competenza artistica e i materiali saranno forniti. \nCosto: Il laboratorio è gratuito\, l’ingresso alla collezione permanente ha un costo di 5\,00 euro tariffa intera\, 3\,00 euro tariffa con convenzioni \nTesto fornito dall’ideatrice:\nIl museo diventa luogo di cura e trasformazione: in questo laboratorio i e le partecipanti saranno invitati a vivere un dialogo intimo con un’opera d’arte esposta\, lasciandosi guidare dal linguaggio delle immagini\, dei simboli e dei colori.\nAttraverso una pratica di rispecchiamento con l’opera\, l’esperienza si svilupperà in due momenti:\nosservazione attiva: uno sguardo lento e profondo all’opera scelta\, con esercizi di consapevolezza e ascolto delle emozioni che suscita.\ncreazione personale: un tempo per trasformare quelle impressioni in segni\, forme e immagini\, utilizzando materiali semplici (disegno\, collage\, colore).\nL’obiettivo non è “fare arte”\, ma scoprire come l’arte ci parla e ci aiuta a riconoscerci\, aprendo uno spazio di benessere\, riflessione e condivisione.
URL:https://palazzoblu.it/visita/museo-creativo-laboratorio-gratuito-di-arteterapia-museale/
ATTACH;FMTTYPE=image/jpeg:https://palazzoblu.it/wp-content/uploads/2025/09/natura-morta.jpg
END:VEVENT
END:VCALENDAR